{"text_format":"1","workbook":"xlsx","n_sheets":18,"sheets":["SHELL","CMTSCRN ","RANKING INITIAL","INTERVIEW","RANKING FINAL"," 1","2","3"," 4"," 5"," 6","COMMENTS","ANALYSIS","ANALYSIS TOTAL (2)","NOTES","CHECKLIST","REVIEW","PRESNOTES"],"not_rendered":{"charts":0,"images":0,"macros":1,"external_links":0,"defined_names":64,"comments":0,"pivot_tables":0},"unopened":[],"bounds":{"document_bytes":16777216,"sheet_cells":100000,"rows_first":2000,"rows_last":500,"rows_between":2000,"halvings":0,"cell_chars":16384,"cell_head_chars":4096},"cells_cut":0,"cells_raw":0,"read":"whole","date_system":"1900"}

{"sheet":"SHELL","index":0,"n_rows":50,"n_cols":27,"rows_kept":50,"cut":false,"hidden":false,"merged":[[6,17,6,22],[10,0,11,0],[10,1,11,1],[12,0,13,0],[6,3,6,8],[12,1,13,1],[0,1,4,4],[34,0,35,0],[34,1,35,1],[22,0,23,0],[32,0,33,0],[32,1,33,1],[28,0,29,0],[28,1,29,1],[30,1,31,1],[30,0,31,0],[26,0,27,0],[26,1,27,1],[18,0,19,0],[20,0,21,0],[18,1,19,1],[20,1,21,1],[14,0,15,0],[36,0,37,0],[36,1,37,1],[38,0,39,0],[38,1,39,1],[14,1,15,1],[16,1,17,1],[22,1,23,1],[24,1,25,1],[16,0,17,0],[24,0,25,0],[40,0,41,0],[40,1,41,1],[48,0,49,0],[48,1,49,1],[42,0,43,0],[42,1,43,1],[44,0,45,0],[44,1,45,1],[46,0,47,0],[46,1,47,1]]}
[null,"Project Name: "]
[]
[]
[]
[]
["Scale:","Rate each applicant on a scale from 1 (lowest) to 20 (highest)"]
[null,null,null,"COMPLIANCE",null,null,null,null,null,null,"INITIAL SCREENING",null,null,null,null,null,null,"INTERVIEW AND PRESENTATION"]
[null,"Using the ratings noted, Selection Committee shall provide a numerical evaluation of the Qualifying elements.  Tabulation of all entries will provide a ranking of all Applicants.",null,"CERTIFICATE BY THE FLA SECRETARY OF STATE","TYPE OF BUSINESS","REQUIRED VALID LICENSE - GC","BONDING CAPACITY","LOCATION/ADDRESS & PHONE# OF FIRM'S                                                                                                 OFFICES","OWNERS/OFFICERS & PRINCIPALS IN CHG.","RELATED EXPERIENCE","PROPOSED PROJECT STAFF & FUNCTIONS ","WORKLOAD","EQUITABLE DISTRIBUTION","FINANCIAL CAPABILITIES AND COST CONTRAL MEASURES","MWBE, LDB AND VBE BUSINESS HISTORY","LOCAL PREFERENCE POLICY SCORE","TOTAL","REFERENCES","OVERALL APPROACH AND METHODOLOGY","PROJECT TEAM","COST CONTROL","PROJECT SCHEDULING","MWBE, LDB AND VBE IMPLEMENTATION PLAN","TOTAL",null,null,"*MWBE/**LDB/***BOTH"]
["ITEM","APPLICANTS","Assigned Weight",null,null,null,null,null,null,0.35,0.2,0.05,0.05,0.15,0.1,0.1,1,0.1,0.3,0.1,0.2,0.2,0.1,1]
[]
[1,null,"Rating",null,null,null,null,null,null,null,null,null,null,null,null,null,{"$f":"SUM(J11:P11)","v":0},null,null,null,null,null,null,{"$f":"SUM(R11+S11+T11+U11+V11+W11)","v":0},"Rating"]
[null,null,"Weighted Score",null,null,null,null,null,null,{"$f":"J$9*J11","v":0},0,0,0,0,0,0,{"$f":"SUM(J12:P12)","v":0},{"$f":"SUM(R9*R11)","v":0},0,0,0,0,0,{"$f":"SUM(R12+S12+T12+U12+V12+W12)","v":0},"Weighted Score"]
[2,null,"Rating",null,null,null,null,null,null,null,null,null,null,null,null,null,0,null,null,null,null,null,null,0,"Rating"]
[null,null,"Weighted Score",null,null,null,null,null,null,{"$f":"J$9*J13","v":0},0,0,0,0,0,{"$f":"P$9*P13","v":0},0,{"$f":"SUM(R9*R13)","v":0},0,0,0,{"$f":"SUM(V9*V13)","v":0},0,0,"Weighted Score"]
[3,null,"Rating",null,null,null,null,null,null,null,null,null,null,null,null,null,0,null,null,null,null,null,null,0,"Rating"]
[null,null,"Weighted Score",null,null,null,null,null,null,{"$f":"J$9*J15","v":0},0,0,0,0,0,{"$f":"P$9*P15","v":0},0,{"$f":"SUM(R9*R15)","v":0},0,0,0,0,0,0,"Weighted Score"]
[4,null,"Rating",null,null,null,null,null,null,null,null,null,null,null,null,null,0,null,null,null,null,null,null,0,"Rating"]
[null,null,"Weighted Score",null,null,null,null,null,null,{"$f":"J$9*J17","v":0},0,0,0,0,0,{"$f":"P$9*P17","v":0},0,{"$f":"SUM(R9*R17)","v":0},0,0,0,0,0,0,"Weighted Score"]
[5,null,"Rating",null,null,null,null,null,null,null,null,null,null,null,null,null,0,null,null,null,null,null,null,0,"Rating"]
[null,null,"Weighted Score",null,null,null,null,null,null,{"$f":"J$9*J19","v":0},0,0,0,0,0,{"$f":"P$9*P19","v":0},0,{"$f":"SUM(R9*R19)","v":0},0,0,0,0,0,0,"Weighted Score"]
[6,null,"Rating",null,null,null,null,null,null,null,null,null,null,null,null,null,0,null,null,null,null,null,null,0,"Rating"]
[null,null,"Weighted Score",null,null,null,null,null,null,{"$f":"J$9*J21","v":0},0,0,0,0,0,{"$f":"P$9*P21","v":0},0,{"$f":"SUM(R9*R21)","v":0},0,0,0,0,0,0,"Weighted Score"]
[7,null,"Rating",null,null,null,null,null,null,null,null,null,null,null,null,null,0,null,null,null,null,null,null,0,"Rating"]
[null,null,"Weighted Score",null,null,null,null,null,null,{"$f":"J$9*J23","v":0},0,0,0,0,0,{"$f":"P$9*P23","v":0},0,{"$f":"SUM(R9*R23)","v":0},0,0,0,0,0,0,"Weighted Score"]
[8,null,"Rating",null,null,null,null,null,null,null,null,null,null,null,null,null,0,null,null,null,null,null,null,0,"Rating"]
[null,null,"Weighted Score",null,null,null,null,null,null,{"$f":"J$9*J25","v":0},0,0,0,0,0,{"$f":"P$9*P25","v":0},0,{"$f":"SUM(R9*R25)","v":0},0,0,0,0,0,0,"Weighted Score"]
[9,null,"Rating",null,null,null,null,null,null,null,null,null,null,null,null,null,0,null,null,null,null,null,null,0,"Rating"]
[null,null,"Weighted Score",null,null,null,null,null,null,{"$f":"J$9*J27","v":0},0,0,0,0,0,{"$f":"P$9*P27","v":0},0,{"$f":"SUM(R9*R27)","v":0},0,0,0,0,0,0,"Weighted Score"]
[10,null,"Rating",null,null,null,null,null,null,null,null,null,null,null,null,null,0,null,null,null,null,null,null,{"$f":"SUM(R29:W29)","v":0},"Rating"]
[null,null,"Weighted Score",null,null,null,null,null,null,{"$f":"J$9*J29","v":0},0,0,0,0,0,{"$f":"P$9*P29","v":0},0,{"$f":"SUM(R9*R29)","v":0},0,0,0,0,0,0,"Weighted Score"]
[11,null,"Rating",null,null,null,null,null,null,null,null,null,null,null,null,null,0,null,null,null,null,null,null,0,"Rating"]
[null,null,"Weighted Score",null,null,null,null,null,null,{"$f":"J$9*J31","v":0},0,0,0,0,0,{"$f":"P$9*P31","v":0},0,{"$f":"SUM(R9*R31)","v":0},0,0,0,0,0,0,"Weighted Score"]
[12,null,"Rating",null,null,null,null,null,null,null,null,null,null,null,null,null,0,null,null,null,null,null,null,0,"Rating"]
[null,null,"Weighted Score",null,null,null,null,null,null,{"$f":"J$9*J33","v":0},0,0,0,0,0,{"$f":"P$9*P33","v":0},0,{"$f":"SUM(R11*R33)","v":0},0,0,0,0,0,0,"Weighted Score"]
[13,null,"Rating",null,null,null,null,null,null,null,null,null,null,null,null,null,0,null,null,null,null,null,null,{"$f":"SUM(R35:W35)","v":0},"Rating"]
[null,null,"Weighted Score",null,null,null,null,null,null,{"$f":"J$9*J35","v":0},0,0,0,0,0,{"$f":"P$9*P35","v":0},0,{"$f":"SUM(R13*R35)","v":0},0,0,0,0,0,0,"Weighted Score"]
[14,null,"Rating",null,null,null,null,null,null,null,null,null,null,null,null,null,{"$f":"SUM(J37:P37)","v":0},null,null,null,null,null,null,0,"Rating"]
[null,null,"Weighted Score",null,null,null,null,null,null,{"$f":"J$9*J37","v":0},0,0,0,0,0,{"$f":"P$9*P37","v":0},0,{"$f":"SUM(R15*R37)","v":0},0,0,0,0,0,0,"Weighted Score"]
[15,null,"Rating",null,null,null,null,null,null,null,null,null,null,null,null,null,0,null,null,null,null,null,null,0,"Rating"]
[null,null,"Weighted Score",null,null,null,null,null,null,{"$f":"J$9*J39","v":0},0,0,0,0,0,{"$f":"P$9*P39","v":0},0,{"$f":"SUM(R17*R39)","v":0},0,0,0,0,0,0,"Weighted Score"]
[16,null,"Rating",null,null,null,null,null,null,null,null,null,null,null,null,null,0,null,null,null,null,null,null,0,"Rating"]
[null,null,"Weighted Score",null,null,null,null,null,null,{"$f":"J$9*J41","v":0},0,0,0,0,0,{"$f":"P$9*P41","v":0},0,{"$f":"SUM(R19*R41)","v":0},0,0,0,0,0,0,"Weighted Score"]
[17,null,"Rating",null,null,null,null,null,null,null,null,null,null,null,null,null,0,null,null,null,null,null,null,0,"Rating"]
[null,null,"Weighted Score",null,null,null,null,null,null,{"$f":"J$9*J43","v":0},0,0,0,0,0,{"$f":"P$9*P43","v":0},0,{"$f":"SUM(R21*R43)","v":0},0,0,0,0,0,0,"Weighted Score"]
[18,null,"Rating",null,null,null,null,null,null,null,null,null,null,null,null,null,0,null,null,null,null,null,null,0,"Rating"]
[null,null,"Weighted Score",null,null,null,null,null,null,{"$f":"J$9*J45","v":0},0,0,0,0,0,{"$f":"P$9*P45","v":0},0,{"$f":"SUM(R23*R45)","v":0},0,0,0,0,0,0,"Weighted Score"]
[19,null,"Rating",null,null,null,null,null,null,null,null,null,null,null,null,null,0,null,null,null,null,null,null,0,"Rating"]
[null,null,"Weighted Score",null,null,null,null,null,null,{"$f":"J$9*J47","v":0},0,0,0,0,0,{"$f":"P$9*P47","v":0},0,{"$f":"SUM(R25*R47)","v":0},0,0,0,0,0,0,"Weighted Score"]
[20,null,"Rating",null,null,null,null,null,null,null,null,null,null,null,null,null,0,null,null,null,null,null,null,0,"Rating"]
[null,null,"Weighted Score",null,null,null,null,null,null,{"$f":"J$9*J49","v":0},0,0,0,0,0,{"$f":"P$9*P49","v":0},0,{"$f":"SUM(R27*R49)","v":0},0,0,0,0,0,0,"Weighted Score"]

{"sheet":"CMTSCRN ","index":1,"n_rows":52,"n_cols":15,"rows_kept":52,"cut":false,"hidden":false,"merged":[[1,1,3,4],[42,0,43,0],[42,1,43,1],[24,1,25,1],[18,1,19,1],[20,1,21,1],[22,1,23,1],[20,0,21,0],[38,0,39,0],[38,1,39,1],[28,0,29,0],[28,1,29,1],[30,0,31,0],[36,0,37,0],[24,0,25,0],[22,0,23,0],[50,0,51,0],[50,1,51,1],[12,0,13,0],[14,0,15,0],[16,0,17,0],[18,0,19,0],[12,1,13,1],[14,1,15,1],[16,1,17,1],[44,0,45,0],[44,1,45,1],[46,0,47,0],[46,1,47,1],[48,0,49,0],[48,1,49,1],[26,1,27,1],[36,1,37,1],[26,0,27,0],[40,0,41,0],[40,1,41,1],[34,0,35,0],[34,1,35,1],[30,1,31,1],[32,0,33,0],[32,1,33,1]]}
[]
[null,{"$f":"SHELL!B1","v":"Project Name: "}]
[]
[]
[null,null,null,"          COMMITTEE MEMBERS"]
[null,"Using the ratings noted, Selection Committee shall provide a numerical evaluation of the Qualifying elements.  Tabulation of all entries will provide a ranking of all Applicants.",null,{"$f":"' 1'!B3","v":"Enter Name"},{"$f":"'2'!B3","v":"Enter Name"},{"$f":"'3'!B3","v":"Enter Name"},{"$f":"' 4'!B3","v":"Enter Name"},{"$f":"' 5'!B3","v":" Budget Enter Name"},{"$f":"' 6'!B3","v":"OBO - Enter Name\n"},"EQUITABLE DISTRIBUTION","LOCAL PREFERENCE","  TOTAL (Rating)","  TOTAL (Wt Score)","  RANKING"]
[]
[]
[null,"INITIAL SCREENING: "]
[]
[null,"APPLICANTS"]
[null,null,null,null,null,null,null,null,null,null,null,null,null,null,"*MWBE/**LDB/***BOTH"]
[1,{"$f":"SHELL!B11","v":0},"Rating",{"$f":"' 1'!Q14","v":0},{"$f":"'2'!Q14","v":0},{"$f":"'3'!Q14","v":0},{"$f":"' 4'!Q14","v":0},{"$f":"' 5'!Q14","v":0},{"$f":"' 6'!Q14","v":0},null,null,{"$f":"SUM(D13:K13)","v":0}]
[null,null,"Weighted Score",{"$f":"' 1'!Q15","v":0},{"$f":"'2'!Q15","v":0},{"$f":"'3'!Q15","v":0},{"$f":"' 4'!Q15","v":0},{"$f":"' 5'!Q15","v":0},{"$f":"' 6'!Q15","v":0},{"$f":"J13*5%","v":0},{"$f":"K13*10%","v":0},null,{"$f":"SUM(D14:K14)","v":0}]
[2,{"$f":"SHELL!B13","v":0},"Rating",{"$f":"' 1'!Q16","v":0},{"$f":"'2'!Q16","v":0},{"$f":"'3'!Q16","v":0},{"$f":"' 4'!Q16","v":0},{"$f":"' 5'!Q16","v":0},{"$f":"' 6'!Q16","v":0},null,null,{"$f":"SUM(D15:K15)","v":0}]
[null,null,"Weighted Score",{"$f":"' 1'!Q17","v":0},{"$f":"'2'!Q17","v":0},{"$f":"'3'!Q17","v":0},{"$f":"' 4'!Q17","v":0},{"$f":"' 5'!Q17","v":0},{"$f":"' 6'!Q17","v":0},{"$f":"J15*5%","v":0},{"$f":"K15*10%","v":0},null,{"$f":"SUM(D16:K16)","v":0}]
[3,{"$f":"SHELL!B15","v":0},"Rating",{"$f":"' 1'!Q18","v":0},{"$f":"'2'!Q18","v":0},{"$f":"'3'!Q18","v":0},{"$f":"' 4'!Q18","v":0},{"$f":"' 5'!Q18","v":0},{"$f":"' 6'!Q18","v":0},null,null,{"$f":"SUM(D17:K17)","v":0}]
[null,null,"Weighted Score",{"$f":"' 1'!Q19","v":0},{"$f":"'2'!Q19","v":0},{"$f":"'3'!Q19","v":0},{"$f":"' 4'!Q19","v":0},{"$f":"' 5'!Q19","v":0},{"$f":"' 6'!Q19","v":0},{"$f":"J17*5%","v":0},{"$f":"K17*10%","v":0},null,{"$f":"SUM(D18:K18)","v":0}]
[4,{"$f":"SHELL!B17","v":0},"Rating",{"$f":"' 1'!Q20","v":0},{"$f":"'2'!Q20","v":0},{"$f":"'3'!Q20","v":0},{"$f":"' 4'!Q20","v":0},{"$f":"' 5'!Q20","v":0},{"$f":"' 6'!Q20","v":0},null,null,{"$f":"SUM(D19:K19)","v":0}]
[null,null,"Weighted Score",{"$f":"' 1'!Q21","v":0},{"$f":"'2'!Q21","v":0},{"$f":"'3'!Q21","v":0},{"$f":"' 4'!Q21","v":0},{"$f":"' 5'!Q21","v":0},{"$f":"' 6'!Q21","v":0},{"$f":"J19*0.05","v":0},{"$f":"K19*10%","v":0},null,{"$f":"SUM(D20:K20)","v":0}]
[5,{"$f":"SHELL!B19","v":0},"Rating",{"$f":"' 1'!Q22","v":0},{"$f":"'2'!Q22","v":0},{"$f":"'3'!Q22","v":0},{"$f":"' 4'!Q22","v":0},{"$f":"' 5'!Q22","v":0},{"$f":"' 6'!Q22","v":0},null,null,{"$f":"SUM(D21:K21)","v":0}]
[null,null,"Weighted Score",{"$f":"' 1'!Q23","v":0},{"$f":"'2'!Q23","v":0},{"$f":"'3'!Q23","v":0},{"$f":"' 4'!Q23","v":0},{"$f":"' 5'!Q23","v":0},{"$f":"' 6'!Q23","v":0},{"$f":"J21*0.05","v":0},{"$f":"K21*10%","v":0},null,{"$f":"SUM(D22:K22)","v":0}]
[6,{"$f":"SHELL!B21","v":0},"Rating",{"$f":"' 1'!Q24","v":0},{"$f":"'2'!Q24","v":0},{"$f":"'3'!Q24","v":0},{"$f":"' 4'!Q24","v":0},{"$f":"' 5'!Q24","v":0},{"$f":"' 6'!Q24","v":0},null,null,{"$f":"SUM(D23:K23)","v":0}]
[null,null,"Weighted Score",{"$f":"' 1'!Q25","v":0},{"$f":"'2'!Q25","v":0},{"$f":"'3'!Q25","v":0},{"$f":"' 4'!Q25","v":0},{"$f":"' 5'!Q25","v":0},{"$f":"' 6'!Q25","v":0},{"$f":"J23*0.05","v":0},{"$f":"K23*10%","v":0},null,{"$f":"SUM(D24:K24)","v":0}]
[7,{"$f":"SHELL!B23","v":0},"Rating",{"$f":"' 1'!Q26","v":0},{"$f":"'2'!Q26","v":0},{"$f":"'3'!Q26","v":0},{"$f":"' 4'!Q26","v":0},{"$f":"' 5'!Q26","v":0},{"$f":"' 6'!Q26","v":0},null,null,{"$f":"SUM(D25:K25)","v":0}]
[null,null,"Weighted Score",{"$f":"' 1'!Q27","v":0},{"$f":"'2'!Q27","v":0},{"$f":"'3'!Q27","v":0},{"$f":"' 4'!Q27","v":0},{"$f":"' 5'!Q27","v":0},{"$f":"' 6'!Q27","v":0},{"$f":"J25*0.05","v":0},{"$f":"K25*10%","v":0},null,{"$f":"SUM(D26:K26)","v":0}]
[8,{"$f":"SHELL!B25","v":0},"Rating",{"$f":"' 1'!Q28","v":0},{"$f":"'2'!Q28","v":0},{"$f":"'3'!Q28","v":0},{"$f":"' 4'!Q28","v":0},{"$f":"' 5'!Q28","v":0},{"$f":"' 6'!Q28","v":0},null,null,{"$f":"SUM(D27:K27)","v":0}]
[null,null,"Weighted Score",{"$f":"' 1'!Q29","v":0},{"$f":"'2'!Q29","v":0},{"$f":"'3'!Q29","v":0},{"$f":"' 4'!Q29","v":0},{"$f":"' 5'!Q29","v":0},{"$f":"' 6'!Q29","v":0},{"$f":"J27*5%","v":0},{"$f":"K27*10%","v":0},null,{"$f":"SUM(D28:K28)","v":0}]
[9,{"$f":"SHELL!B27","v":0},"Rating",{"$f":"' 1'!Q30","v":0},{"$f":"'2'!Q30","v":0},{"$f":"'3'!Q30","v":0},{"$f":"' 4'!Q30","v":0},{"$f":"' 5'!Q30","v":0},{"$f":"' 6'!Q30","v":0},null,null,{"$f":"SUM(D29:K29)","v":0}]
[null,null,"Weighted Score",{"$f":"' 1'!Q31","v":0},{"$f":"'2'!Q31","v":0},{"$f":"'3'!Q31","v":0},{"$f":"' 4'!Q31","v":0},{"$f":"' 5'!Q31","v":0},{"$f":"' 6'!Q31","v":0},{"$f":"J29*5%","v":0},{"$f":"K29*10%","v":0},null,{"$f":"SUM(D30:K30)","v":0}]
[10,{"$f":"SHELL!B29","v":0},"Rating",{"$f":"' 1'!Q32","v":0},{"$f":"'2'!Q32","v":0},{"$f":"'3'!Q32","v":0},{"$f":"' 4'!Q32","v":0},{"$f":"' 5'!Q32","v":0},{"$f":"' 6'!Q32","v":0},null,null,{"$f":"SUM(D31:K31)","v":0}]
[null,null,"Weighted Score",{"$f":"' 1'!Q33","v":0},{"$f":"'2'!Q33","v":0},{"$f":"'3'!Q33","v":0},{"$f":"' 4'!Q33","v":0},{"$f":"' 5'!Q33","v":0},{"$f":"' 6'!Q33","v":0},{"$f":"J31*5%","v":0},{"$f":"K31*10%","v":0},null,{"$f":"SUM(D32:K32)","v":0}]
[11,{"$f":"SHELL!B31","v":0},"Rating",{"$f":"' 1'!Q34","v":0},{"$f":"'2'!Q34","v":0},{"$f":"'3'!Q34","v":0},{"$f":"' 4'!Q34","v":0},{"$f":"' 5'!Q34","v":0},{"$f":"' 6'!Q34","v":0},null,null,{"$f":"SUM(D33:K33)","v":0}]
[null,null,"Weighted Score",{"$f":"' 1'!Q35","v":0},{"$f":"'2'!Q35","v":0},{"$f":"'3'!Q35","v":0},{"$f":"' 4'!Q35","v":0},{"$f":"' 5'!Q35","v":0},{"$f":"' 6'!Q35","v":0},{"$f":"J33*5%","v":0},{"$f":"K33*10%","v":0},null,{"$f":"SUM(D34:K34)","v":0}]
[12,{"$f":"SHELL!B33","v":0},"Rating",{"$f":"' 1'!Q36","v":0},{"$f":"'2'!Q36","v":0},{"$f":"'3'!Q36","v":0},{"$f":"' 4'!Q36","v":0},{"$f":"' 5'!Q36","v":0},{"$f":"' 6'!Q36","v":0},null,null,{"$f":"SUM(D35:K35)","v":0}]
[null,null,"Weighted Score",{"$f":"' 1'!Q37","v":0},{"$f":"'2'!Q37","v":0},{"$f":"'3'!Q37","v":0},{"$f":"' 4'!Q37","v":0},{"$f":"' 5'!Q37","v":0},{"$f":"' 6'!Q37","v":0},{"$f":"J35*5%","v":0},{"$f":"K35*10%","v":0},null,{"$f":"SUM(D36:K36)","v":0}]
[13,{"$f":"SHELL!B35","v":0},"Rating",{"$f":"' 1'!Q38","v":0},{"$f":"'2'!Q38","v":0},{"$f":"'3'!Q38","v":0},{"$f":"' 4'!Q38","v":0},{"$f":"' 5'!Q38","v":0},{"$f":"' 6'!Q38","v":0},null,null,{"$f":"SUM(D37:K37)","v":0}]
[null,null,"Weighted Score",{"$f":"' 1'!Q39","v":0},{"$f":"'2'!Q39","v":0},{"$f":"'3'!Q39","v":0},{"$f":"' 4'!Q39","v":0},{"$f":"' 5'!Q39","v":0},{"$f":"' 6'!Q39","v":0},{"$f":"J37*5%","v":0},{"$f":"K37*10%","v":0},null,{"$f":"SUM(D38:K38)","v":0}]
[14,{"$f":"SHELL!B37","v":0},"Rating",{"$f":"' 1'!Q40","v":0},{"$f":"'2'!Q40","v":0},{"$f":"'3'!Q40","v":0},{"$f":"' 4'!Q40","v":0},{"$f":"' 5'!Q40","v":0},{"$f":"' 6'!Q40","v":0},null,null,{"$f":"SUM(D39:K39)","v":0}]
[null,null,"Weighted Score",{"$f":"' 1'!Q41","v":0},{"$f":"'2'!Q41","v":0},{"$f":"'3'!Q41","v":0},{"$f":"' 4'!Q41","v":0},{"$f":"' 5'!Q41","v":0},{"$f":"' 6'!Q41","v":0},{"$f":"J39*5%","v":0},{"$f":"K39*10%","v":0},null,{"$f":"SUM(D40:K40)","v":0}]
[15,{"$f":"SHELL!B39","v":0},"Rating",{"$f":"' 1'!Q42","v":0},{"$f":"'2'!Q42","v":0},{"$f":"'3'!Q42","v":0},{"$f":"' 4'!Q42","v":0},{"$f":"' 5'!Q42","v":0},{"$f":"' 6'!Q42","v":0},null,null,{"$f":"SUM(D41:K41)","v":0}]
[null,null,"Weighted Score",{"$f":"' 1'!Q43","v":0},{"$f":"'2'!Q43","v":0},{"$f":"'3'!Q43","v":0},{"$f":"' 4'!Q43","v":0},{"$f":"' 5'!Q43","v":0},{"$f":"' 6'!Q43","v":0},{"$f":"J41*5%","v":0},{"$f":"K41*10%","v":0},null,{"$f":"SUM(D42:K42)","v":0}]
[16,{"$f":"SHELL!B41","v":0},"Rating",{"$f":"' 1'!Q44","v":0},{"$f":"'2'!Q44","v":0},{"$f":"'3'!Q44","v":0},{"$f":"' 4'!Q44","v":0},{"$f":"' 5'!Q44","v":0},{"$f":"' 6'!Q44","v":0},null,null,{"$f":"SUM(D43:K43)","v":0}]
[null,null,"Weighted Score",{"$f":"' 1'!Q45","v":0},{"$f":"'2'!Q45","v":0},{"$f":"'3'!Q45","v":0},{"$f":"' 4'!Q45","v":0},{"$f":"' 5'!Q45","v":0},{"$f":"' 6'!Q45","v":0},{"$f":"J43*5%","v":0},{"$f":"K43*10%","v":0},null,{"$f":"SUM(D44:K44)","v":0}]
[17,{"$f":"SHELL!B43","v":0},"Rating",{"$f":"' 1'!Q46","v":0},{"$f":"'2'!Q46","v":0},{"$f":"'3'!Q46","v":0},{"$f":"' 4'!Q46","v":0},{"$f":"' 5'!Q46","v":0},{"$f":"' 6'!Q46","v":0},null,null,{"$f":"SUM(D45:K45)","v":0}]
[null,null,"Weighted Score",{"$f":"' 1'!Q47","v":0},{"$f":"'2'!Q47","v":0},{"$f":"'3'!Q47","v":0},{"$f":"' 4'!Q47","v":0},{"$f":"' 5'!Q47","v":0},{"$f":"' 6'!Q47","v":0},{"$f":"J45*5%","v":0},{"$f":"K45*10%","v":0},null,{"$f":"SUM(D46:K46)","v":0}]
[18,{"$f":"SHELL!B45","v":0},"Rating",{"$f":"' 1'!Q48","v":0},{"$f":"'2'!Q48","v":0},{"$f":"'3'!Q48","v":0},{"$f":"' 4'!Q48","v":0},{"$f":"' 5'!Q48","v":0},{"$f":"' 6'!Q48","v":0},null,null,{"$f":"SUM(D47:K47)","v":0}]
[null,null,"Weighted Score",{"$f":"' 1'!Q49","v":0},{"$f":"'2'!Q49","v":0},{"$f":"'3'!Q49","v":0},{"$f":"' 4'!Q49","v":0},{"$f":"' 5'!Q49","v":0},{"$f":"' 6'!Q49","v":0},{"$f":"J47*5%","v":0},{"$f":"K47*10%","v":0},null,{"$f":"SUM(D48:K48)","v":0}]
[19,{"$f":"SHELL!B47","v":0},"Rating",{"$f":"' 1'!Q50","v":0},{"$f":"'2'!Q50","v":0},{"$f":"'3'!Q50","v":0},{"$f":"' 4'!Q50","v":0},{"$f":"' 5'!Q50","v":0},{"$f":"' 6'!Q50","v":0},null,null,{"$f":"SUM(D49:K49)","v":0}]
[null,null,"Weighted Score",{"$f":"' 1'!Q51","v":0},{"$f":"'2'!Q51","v":0},{"$f":"'3'!Q51","v":0},{"$f":"' 4'!Q51","v":0},{"$f":"' 5'!Q51","v":0},{"$f":"' 6'!Q51","v":0},{"$f":"J49*5%","v":0},{"$f":"K49*10%","v":0},null,{"$f":"SUM(D50:K50)","v":0}]
[20,{"$f":"SHELL!B49","v":0},"Rating",{"$f":"' 1'!Q52","v":0},{"$f":"'2'!Q52","v":0},{"$f":"'3'!Q52","v":0},{"$f":"' 4'!Q52","v":0},{"$f":"' 5'!Q52","v":0},{"$f":"' 6'!Q52","v":0},null,null,{"$f":"SUM(D51:K51)","v":0}]
[null,null,"Weighted Score",{"$f":"' 1'!Q53","v":0},{"$f":"'2'!Q53","v":0},{"$f":"'3'!Q53","v":0},{"$f":"' 4'!Q53","v":0},{"$f":"' 5'!Q53","v":0},{"$f":"' 6'!Q53","v":0},{"$f":"J51*5%","v":0},{"$f":"K51*10%","v":0},null,{"$f":"SUM(D52:K52)","v":0}]

{"sheet":"RANKING INITIAL","index":2,"n_rows":29,"n_cols":5,"rows_kept":29,"cut":false,"hidden":false,"merged":[]}
["The Firms who have been short-listed are as follows:    Any questions regarding the content of this notice should be directed to Ed Ames at (407) 317-3700 Ext. 2025319.\n\nSee below Short-listed Ranking:"]
["Using the ratings noted, Selection Committee shall provide a numerical evaluation of the Qualifying elements.  Tabulation of all entries will provide a ranking of all Applicants.","          COMMITTEE MEMBERS","RANKING","RANKING"]
[{"$f":"SHELL!B1","v":"Project Name: "},null,"WEIGHTED SCORE","RANKING","*MWBE/**LDB/***BOTH"]
[]
[]
["INITIAL SCREENING: "]
[]
["APPLICANTS"]
[]
[{"$f":"'CMTSCRN '!B13","v":0},null,{"$f":"'CMTSCRN '!M14","v":0},1]
[{"$f":"'CMTSCRN '!B15","v":0},null,{"$f":"'CMTSCRN '!M16","v":0},2]
[{"$f":"'CMTSCRN '!B17","v":0},null,{"$f":"'CMTSCRN '!M18","v":0},3]
[{"$f":"'CMTSCRN '!B19","v":0},null,{"$f":"'CMTSCRN '!M20","v":0},4]
[{"$f":"'CMTSCRN '!B21","v":0},null,{"$f":"'CMTSCRN '!M22","v":0},5]
[{"$f":"'CMTSCRN '!B23","v":0},null,{"$f":"'CMTSCRN '!M24","v":0},6]
[{"$f":"'CMTSCRN '!B25","v":0},null,{"$f":"'CMTSCRN '!M26","v":0},7]
[{"$f":"'CMTSCRN '!B27","v":0},null,{"$f":"'CMTSCRN '!M28","v":0},8]
[{"$f":"'CMTSCRN '!B29","v":0},null,{"$f":"'CMTSCRN '!M30","v":0},9]
[{"$f":"'CMTSCRN '!B31","v":0},null,{"$f":"'CMTSCRN '!M32","v":0},10]
[{"$f":"'CMTSCRN '!B33","v":0},null,{"$f":"'CMTSCRN '!M34","v":0},11]
[{"$f":"'CMTSCRN '!B35","v":0},null,{"$f":"'CMTSCRN '!M36","v":0},12]
[{"$f":"'CMTSCRN '!B37","v":0},null,{"$f":"'CMTSCRN '!M38","v":0},13]
[{"$f":"'CMTSCRN '!B39","v":0},null,{"$f":"'CMTSCRN '!M40","v":0},14]
[{"$f":"'CMTSCRN '!B41","v":0},null,{"$f":"'CMTSCRN '!M42","v":0},15]
[{"$f":"'CMTSCRN '!B43","v":0},null,{"$f":"'CMTSCRN '!M44","v":0},16]
[{"$f":"'CMTSCRN '!B45","v":0},null,{"$f":"'CMTSCRN '!M46","v":0},17]
[{"$f":"'CMTSCRN '!B47","v":0},null,{"$f":"'CMTSCRN '!M48","v":0},18]
[{"$f":"'CMTSCRN '!B49","v":0},null,{"$f":"'CMTSCRN '!M50","v":0},19]
[{"$f":"'CMTSCRN '!B51","v":0},null,{"$f":"'CMTSCRN '!M52","v":0},20]

{"sheet":"INTERVIEW","index":3,"n_rows":51,"n_cols":12,"rows_kept":51,"cut":false,"hidden":false,"merged":[[35,1,36,1],[35,0,36,0],[25,0,26,0],[25,1,26,1],[15,0,16,0],[15,1,16,1],[17,0,18,0],[33,0,34,0],[33,1,34,1],[27,0,28,0],[27,1,28,1],[29,0,30,0],[31,0,32,0],[29,1,30,1],[31,1,32,1],[0,1,0,4],[17,1,18,1],[23,0,24,0],[23,1,24,1],[19,0,20,0],[19,1,20,1],[21,0,22,0],[21,1,22,1],[11,0,12,0],[11,1,12,1],[13,0,14,0],[13,1,14,1],[37,0,38,0],[37,1,38,1],[39,0,40,0],[39,1,40,1],[41,0,42,0],[41,1,42,1],[49,0,50,0],[49,1,50,1],[43,0,44,0],[43,1,44,1],[45,0,46,0],[45,1,46,1],[47,0,48,0],[47,1,48,1]]}
[null,{"$f":"SHELL!B1","v":"Project Name: "}]
[]
[]
[null,null,null,"          COMMITTEE MEMBERS"]
[null,"Using the ratings noted, Selection Committee shall provide a numerical evaluation of the Qualifying elements.  Tabulation of all entries will provide a ranking of all Applicants.",null,{"$f":"'CMTSCRN '!D6","v":"Enter Name"},{"$f":"'CMTSCRN '!E6","v":"Enter Name"},{"$f":"'CMTSCRN '!F6","v":"Enter Name"},{"$f":"'CMTSCRN '!G6","v":"Enter Name"},{"$f":"'CMTSCRN '!H6","v":" Budget Enter Name"},{"$f":"'CMTSCRN '!I6","v":"OBO - Enter Name\n"}," TOTAL (Rating)","  TOTAL (Wt Score)","*MWBE/**LDB/***BOTH"]
[]
[]
[null,"INTERVIEW SCREENING"]
[]
[null,"APPLICANTS"]
[]
[1,{"$f":"SHELL!B11","v":0},"Rating",{"$f":"' 1'!X14","v":0},{"$f":"'2'!X14","v":0},{"$f":"'3'!X14","v":0},{"$f":"' 4'!X14","v":0},{"$f":"' 5'!X14","v":0},{"$f":"' 6'!X14","v":0},{"$f":"SUM(D12:I12)","v":0}]
[null,null,"Weighted Score",{"$f":"' 1'!X15","v":0},{"$f":"'2'!X15","v":0},{"$f":"'3'!X15","v":0},{"$f":"' 4'!X15","v":0},{"$f":"' 5'!X15","v":0},{"$f":"' 6'!X15","v":0},null,{"$f":"SUM(D13:I13)","v":0}]
[2,{"$f":"SHELL!B13","v":0},"Rating",{"$f":"' 1'!X16","v":0},{"$f":"'2'!X16","v":0},{"$f":"'3'!X16","v":0},{"$f":"' 4'!X16","v":0},{"$f":"' 5'!X16","v":0},{"$f":"' 6'!X16","v":0},{"$f":"SUM(D14:I14)","v":0}]
[null,null,"Weighted Score",{"$f":"' 1'!X17","v":0},{"$f":"'2'!X17","v":0},{"$f":"'3'!X17","v":0},{"$f":"' 4'!X17","v":0},{"$f":"' 5'!X17","v":0},{"$f":"' 6'!X17","v":0},null,{"$f":"SUM(D15:I15)","v":0}]
[3,{"$f":"SHELL!B15","v":0},"Rating",{"$f":"' 1'!X18","v":0},{"$f":"'2'!X18","v":0},{"$f":"'3'!X18","v":0},{"$f":"' 4'!X18","v":0},{"$f":"' 5'!X18","v":0},{"$f":"' 6'!X18","v":0},{"$f":"SUM(D16:I16)","v":0}]
[null,null,"Weighted Score",{"$f":"' 1'!X19","v":0},{"$f":"'2'!X19","v":0},{"$f":"'3'!X19","v":0},{"$f":"' 4'!X19","v":0},{"$f":"' 5'!X19","v":0},{"$f":"' 6'!X19","v":0},null,{"$f":"SUM(D17:I17)","v":0}]
[4,{"$f":"SHELL!B17","v":0},"Rating",{"$f":"' 1'!X20","v":0},{"$f":"'2'!X20","v":0},{"$f":"'3'!X20","v":0},{"$f":"' 4'!X20","v":0},{"$f":"' 5'!X20","v":0},{"$f":"' 6'!X20","v":0},{"$f":"SUM(D18:I18)","v":0}]
[null,null,"Weighted Score",{"$f":"' 1'!X21","v":0},{"$f":"'2'!X21","v":0},{"$f":"'3'!X21","v":0},{"$f":"' 4'!X21","v":0},{"$f":"' 5'!X21","v":0},{"$f":"' 6'!X21","v":0},null,{"$f":"SUM(D19:I19)","v":0}]
[5,{"$f":"SHELL!B19","v":0},"Rating",{"$f":"' 1'!X22","v":0},{"$f":"'2'!X22","v":0},{"$f":"'3'!X22","v":0},{"$f":"' 4'!X22","v":0},{"$f":"' 5'!X22","v":0},{"$f":"' 6'!X22","v":0},{"$f":"SUM(D20:I20)","v":0}]
[null,null,"Weighted Score",{"$f":"' 1'!X23","v":0},{"$f":"'2'!X23","v":0},{"$f":"'3'!X23","v":0},{"$f":"' 4'!X23","v":0},{"$f":"' 5'!X23","v":0},{"$f":"' 6'!X23","v":0},null,{"$f":"SUM(D21:I21)","v":0}]
[6,{"$f":"SHELL!B21","v":0},"Rating",{"$f":"' 1'!X24","v":0},{"$f":"'2'!X24","v":0},{"$f":"'3'!X24","v":0},{"$f":"' 4'!X24","v":0},{"$f":"' 5'!X24","v":0},{"$f":"' 6'!X24","v":0},{"$f":"SUM(D22:I22)","v":0}]
[null,null,"Weighted Score",{"$f":"' 1'!X25","v":0},{"$f":"'2'!X25","v":0},{"$f":"'3'!X25","v":0},{"$f":"' 4'!X25","v":0},{"$f":"' 5'!X25","v":0},{"$f":"' 6'!X25","v":0},null,{"$f":"SUM(D23:I23)","v":0}]
[7,{"$f":"SHELL!B23","v":0},"Rating",{"$f":"' 1'!X26","v":0},{"$f":"'2'!X26","v":0},{"$f":"'3'!X26","v":0},{"$f":"' 4'!X26","v":0},{"$f":"' 5'!X26","v":0},{"$f":"' 6'!X26","v":0},{"$f":"SUM(D24:I24)","v":0}]
[null,null,"Weighted Score",{"$f":"' 1'!X27","v":0},{"$f":"'2'!X27","v":0},{"$f":"'3'!X27","v":0},{"$f":"' 4'!X27","v":0},{"$f":"' 5'!X27","v":0},{"$f":"' 6'!X27","v":0},null,{"$f":"SUM(D25:I25)","v":0}]
[8,{"$f":"SHELL!B25","v":0},"Rating",{"$f":"' 1'!X28","v":0},{"$f":"'2'!X28","v":0},{"$f":"'3'!X28","v":0},{"$f":"' 4'!X28","v":0},{"$f":"' 5'!X28","v":0},{"$f":"' 6'!X28","v":0},{"$f":"SUM(D26:I26)","v":0}]
[null,null,"Weighted Score",{"$f":"' 1'!X29","v":0},{"$f":"'2'!X29","v":0},{"$f":"'3'!X29","v":0},{"$f":"' 4'!X29","v":0},{"$f":"' 5'!X29","v":0},{"$f":"' 6'!X29","v":0},null,{"$f":"SUM(D27:I27)","v":0}]
[9,{"$f":"SHELL!B27","v":0},"Rating",{"$f":"' 1'!X30","v":0},{"$f":"'2'!X30","v":0},{"$f":"'3'!X30","v":0},{"$f":"' 4'!X30","v":0},{"$f":"' 5'!X30","v":0},{"$f":"' 6'!X30","v":0},{"$f":"SUM(D28:I28)","v":0}]
[null,null,"Weighted Score",{"$f":"' 1'!X31","v":0},{"$f":"'2'!X31","v":0},{"$f":"'3'!X31","v":0},{"$f":"' 4'!X31","v":0},{"$f":"' 5'!X31","v":0},{"$f":"' 6'!X31","v":0},null,{"$f":"SUM(D29:I29)","v":0}]
[10,{"$f":"SHELL!B29","v":0},"Rating",{"$f":"' 1'!X32","v":0},{"$f":"'2'!X32","v":0},{"$f":"'3'!X32","v":0},{"$f":"' 4'!X32","v":0},{"$f":"' 5'!X32","v":0},{"$f":"' 6'!X32","v":0},{"$f":"SUM(D30:I30)","v":0}]
[null,null,"Weighted Score",{"$f":"' 1'!X33","v":0},{"$f":"'2'!X33","v":0},{"$f":"'3'!X33","v":0},{"$f":"' 4'!X33","v":0},{"$f":"' 5'!X33","v":0},{"$f":"' 6'!X33","v":0},null,{"$f":"SUM(D31:I31)","v":0}]
[11,{"$f":"SHELL!B31","v":0},"Rating",{"$f":"' 1'!X34","v":0},{"$f":"'2'!X34","v":0},{"$f":"'3'!X34","v":0},{"$f":"' 4'!X34","v":0},{"$f":"' 5'!X34","v":0},{"$f":"' 6'!X34","v":0},{"$f":"SUM(D32:I32)","v":0}]
[null,null,"Weighted Score",{"$f":"' 1'!X35","v":0},{"$f":"'2'!X35","v":0},{"$f":"'3'!X35","v":0},{"$f":"' 4'!X35","v":0},{"$f":"' 5'!X35","v":0},{"$f":"' 6'!X35","v":0},null,{"$f":"SUM(D33:I33)","v":0}]
[12,{"$f":"SHELL!B33","v":0},"Rating",{"$f":"' 1'!X36","v":0},{"$f":"'2'!X36","v":0},{"$f":"'3'!X36","v":0},{"$f":"' 4'!X36","v":0},{"$f":"' 5'!X36","v":0},{"$f":"' 6'!X36","v":0},{"$f":"SUM(D34:I34)","v":0}]
[null,null,"Weighted Score",{"$f":"' 1'!X37","v":0},{"$f":"'2'!X37","v":0},{"$f":"'3'!X37","v":0},{"$f":"' 4'!X37","v":0},{"$f":"' 5'!X37","v":0},{"$f":"' 6'!X37","v":0},null,{"$f":"SUM(D35:I35)","v":0}]
[13,{"$f":"SHELL!B35","v":0},"Rating",{"$f":"' 1'!X38","v":0},{"$f":"'2'!X38","v":0},{"$f":"'3'!X38","v":0},{"$f":"' 4'!X38","v":0},{"$f":"' 5'!X38","v":0},{"$f":"' 6'!X38","v":0},{"$f":"SUM(D36:I36)","v":0}]
[null,null,"Weighted Score",{"$f":"' 1'!X39","v":0},{"$f":"'2'!X39","v":0},{"$f":"'3'!X39","v":0},{"$f":"' 4'!X39","v":0},{"$f":"' 5'!X39","v":0},{"$f":"' 6'!X39","v":0},null,{"$f":"SUM(D37:I37)","v":0}]
[14,{"$f":"SHELL!B37","v":0},"Rating",{"$f":"' 1'!X40","v":0},{"$f":"'2'!X40","v":0},{"$f":"'3'!X40","v":0},{"$f":"' 4'!X40","v":0},{"$f":"' 5'!X40","v":0},{"$f":"' 6'!X40","v":0},{"$f":"SUM(D38:I38)","v":0}]
[null,null,"Weighted Score",{"$f":"' 1'!X41","v":0},{"$f":"'2'!X41","v":0},{"$f":"'3'!X41","v":0},{"$f":"' 4'!X41","v":0},{"$f":"' 5'!X41","v":0},{"$f":"' 6'!X41","v":0},null,{"$f":"SUM(D39:I39)","v":0}]
[15,{"$f":"SHELL!B39","v":0},"Rating",{"$f":"' 1'!X42","v":0},{"$f":"'2'!X42","v":0},{"$f":"'3'!X42","v":0},{"$f":"' 4'!X42","v":0},{"$f":"' 5'!X42","v":0},{"$f":"' 6'!X42","v":0},{"$f":"SUM(D40:I40)","v":0}]
[null,null,"Weighted Score",{"$f":"' 1'!X43","v":0},{"$f":"'2'!X43","v":0},{"$f":"'3'!X43","v":0},{"$f":"' 4'!X43","v":0},{"$f":"' 5'!X43","v":0},{"$f":"' 6'!X43","v":0},null,{"$f":"SUM(D41:I41)","v":0}]
[16,{"$f":"SHELL!B41","v":0},"Rating",{"$f":"' 1'!X44","v":0},{"$f":"'2'!X44","v":0},{"$f":"'3'!X44","v":0},{"$f":"' 4'!X44","v":0},{"$f":"' 5'!X44","v":0},{"$f":"' 6'!X44","v":0},{"$f":"SUM(D42:I42)","v":0}]
[null,null,"Weighted Score",{"$f":"' 1'!X45","v":0},{"$f":"'2'!X45","v":0},{"$f":"'3'!X45","v":0},{"$f":"' 4'!X45","v":0},{"$f":"' 5'!X45","v":0},{"$f":"' 6'!X45","v":0},null,{"$f":"SUM(D43:I43)","v":0}]
[17,{"$f":"SHELL!B43","v":0},"Rating",{"$f":"' 1'!X46","v":0},{"$f":"'2'!X46","v":0},{"$f":"'3'!X46","v":0},{"$f":"' 4'!X46","v":0},{"$f":"' 5'!X46","v":0},{"$f":"' 6'!X46","v":0},{"$f":"SUM(D44:I44)","v":0}]
[null,null,"Weighted Score",{"$f":"' 1'!X47","v":0},{"$f":"'2'!X47","v":0},{"$f":"'3'!X47","v":0},{"$f":"' 4'!X47","v":0},{"$f":"' 5'!X47","v":0},{"$f":"' 6'!X47","v":0},null,{"$f":"SUM(D45:I45)","v":0}]
[18,{"$f":"SHELL!B45","v":0},"Rating",{"$f":"' 1'!X48","v":0},{"$f":"'2'!X48","v":0},{"$f":"'3'!X48","v":0},{"$f":"' 4'!X48","v":0},{"$f":"' 5'!X48","v":0},{"$f":"' 6'!X48","v":0},{"$f":"SUM(D46:I46)","v":0}]
[null,null,"Weighted Score",{"$f":"' 1'!X49","v":0},{"$f":"'2'!X49","v":0},{"$f":"'3'!X49","v":0},{"$f":"' 4'!X49","v":0},{"$f":"' 5'!X49","v":0},{"$f":"' 6'!X49","v":0},null,{"$f":"SUM(D47:I47)","v":0}]
[19,{"$f":"SHELL!B47","v":0},"Rating",{"$f":"' 1'!X50","v":0},{"$f":"'2'!X50","v":0},{"$f":"'3'!X50","v":0},{"$f":"' 4'!X50","v":0},{"$f":"' 5'!X50","v":0},{"$f":"' 6'!X50","v":0},{"$f":"SUM(D48:I48)","v":0}]
[null,null,"Weighted Score",{"$f":"' 1'!X51","v":0},{"$f":"'2'!X51","v":0},{"$f":"'3'!X51","v":0},{"$f":"' 4'!X51","v":0},{"$f":"' 5'!X51","v":0},{"$f":"' 6'!X51","v":0},null,{"$f":"SUM(D49:I49)","v":0}]
[20,{"$f":"SHELL!B49","v":0},"Rating",{"$f":"' 1'!X52","v":0},{"$f":"'2'!X52","v":0},{"$f":"'3'!X52","v":0},{"$f":"' 4'!X52","v":0},{"$f":"' 5'!X52","v":0},{"$f":"' 6'!X52","v":0},{"$f":"SUM(D50:I50)","v":0}]
[null,null,"Weighted Score",{"$f":"' 1'!X53","v":0},{"$f":"'2'!X53","v":0},{"$f":"'3'!X53","v":0},{"$f":"' 4'!X53","v":0},{"$f":"' 5'!X53","v":0},{"$f":"' 6'!X53","v":0},null,{"$f":"SUM(D51:I51)","v":0}]

{"sheet":"RANKING FINAL","index":4,"n_rows":29,"n_cols":6,"rows_kept":29,"cut":false,"hidden":false,"merged":[[0,0,1,0]]}
["Using the ratings noted, Selection Committee shall provide a numerical evaluation of the Qualifying elements.  Tabulation of all entries will provide a ranking of all Applicants."]
[]
[{"$f":"SHELL!B1","v":"Project Name: "},null,null,"WEIGHTED SCORE","RANKING","*MWBE/**LDB/***BOTH"]
[]
[]
["INTERVIEW - FINAL RANKING"]
[]
["APPLICANTS"]
[]
[{"$f":"INTERVIEW!B14","v":0},null,null,{"$f":"INTERVIEW!K15","v":0},1]
[{"$f":"INTERVIEW!B18","v":0},null,null,{"$f":"INTERVIEW!K19","v":0},2]
[{"$f":"INTERVIEW!B12","v":0},null,null,{"$f":"INTERVIEW!K13","v":0},3]
[{"$f":"INTERVIEW!B16","v":0},null,null,{"$f":"INTERVIEW!K17","v":0},4]
[{"$f":"INTERVIEW!B20","v":0},null,null,{"$f":"INTERVIEW!K21","v":0},5]
[{"$f":"INTERVIEW!B22","v":0},null,null,{"$f":"INTERVIEW!K23","v":0},6]
[{"$f":"INTERVIEW!B24","v":0},null,null,{"$f":"INTERVIEW!K25","v":0},7]
[{"$f":"INTERVIEW!B26","v":0},null,null,{"$f":"INTERVIEW!K27","v":0},8]
[{"$f":"INTERVIEW!B28","v":0},null,null,{"$f":"INTERVIEW!K29","v":0},9]
[{"$f":"INTERVIEW!B30","v":0},null,null,{"$f":"INTERVIEW!K31","v":0},10]
[{"$f":"INTERVIEW!B32","v":0},null,null,{"$f":"INTERVIEW!K33","v":0},11]
[{"$f":"INTERVIEW!B34","v":0},null,null,{"$f":"INTERVIEW!K35","v":0},12]
[{"$f":"INTERVIEW!B36","v":0},null,null,{"$f":"INTERVIEW!K37","v":0},13]
[{"$f":"INTERVIEW!B38","v":0},null,null,{"$f":"INTERVIEW!K39","v":0},14]
[{"$f":"INTERVIEW!B40","v":0},null,null,{"$f":"INTERVIEW!K41","v":0},15]
[{"$f":"INTERVIEW!B42","v":0},null,null,{"$f":"INTERVIEW!K43","v":0},16]
[{"$f":"INTERVIEW!B44","v":0},null,null,{"$f":"INTERVIEW!K45","v":0},17]
[{"$f":"INTERVIEW!B46","v":0},null,null,{"$f":"INTERVIEW!K47","v":0},18]
[{"$f":"INTERVIEW!B48","v":0},null,null,{"$f":"INTERVIEW!K49","v":0},19]
[{"$f":"INTERVIEW!B50","v":0},null,null,{"$f":"INTERVIEW!K51","v":0},20]

{"sheet":" 1","index":5,"n_rows":53,"n_cols":25,"rows_kept":53,"cut":false,"hidden":false,"merged":[[2,17,2,22],[9,9,9,16],[9,17,9,23],[9,3,9,8],[15,1,16,1],[2,9,2,16],[10,0,10,2],[13,1,14,1],[13,0,14,0],[37,0,38,0],[37,1,38,1],[31,1,32,1],[35,0,36,0],[23,1,24,1],[25,1,26,1],[27,1,28,1],[27,0,28,0],[35,1,36,1],[29,1,30,1],[31,0,32,0],[33,0,34,0],[33,1,34,1],[23,0,24,0],[25,0,26,0],[29,0,30,0],[19,0,20,0],[21,0,22,0],[19,1,20,1],[15,0,16,0],[17,0,18,0],[17,1,18,1],[21,1,22,1],[39,0,40,0],[39,1,40,1],[41,0,42,0],[41,1,42,1],[43,0,44,0],[43,1,44,1],[51,0,52,0],[51,1,52,1],[45,0,46,0],[45,1,46,1],[47,0,48,0],[47,1,48,1],[49,0,50,0],[49,1,50,1]]}
[]
[]
["#1","Enter Name"]
[]
[]
[]
[]
["Scale:  Rate each applicant on a scale from 1 (lowest) to 20 (highest)"]
[]
[null,null,null,"COMPLIANCE",null,null,null,null,null,"INITIAL SCREENING",null,null,null,null,null,null,null,"INTERVIEW AND PRESENTATION"]
[{"$f":"SHELL!B1","v":"Project Name: "},null,null,{"$f":"SHELL!D8","v":"CERTIFICATE BY THE FLA SECRETARY OF STATE"},{"$f":"SHELL!E8","v":"TYPE OF BUSINESS"},{"$f":"SHELL!F8","v":"REQUIRED VALID LICENSE - GC"},{"$f":"SHELL!G8","v":"BONDING CAPACITY"},{"$f":"SHELL!H8","v":"LOCATION/ADDRESS & PHONE# OF FIRM'S                                                                                                 OFFICES"},{"$f":"SHELL!I8","v":"OWNERS/OFFICERS & PRINCIPALS IN CHG."},{"$f":"SHELL!J8","v":"RELATED EXPERIENCE"},{"$f":"SHELL!K8","v":"PROPOSED PROJECT STAFF & FUNCTIONS "},{"$f":"SHELL!L8","v":"WORKLOAD"},{"$f":"SHELL!M8","v":"EQUITABLE DISTRIBUTION"},{"$f":"SHELL!N8","v":"FINANCIAL CAPABILITIES AND COST CONTRAL MEASURES"},{"$f":"SHELL!O8","v":"MWBE, LDB AND VBE BUSINESS HISTORY"},{"$f":"SHELL!P8","v":"LOCAL PREFERENCE POLICY SCORE"},{"$f":"SHELL!Q8","v":"TOTAL"},{"$f":"SHELL!R8","v":"REFERENCES"},{"$f":"SHELL!S8","v":"OVERALL APPROACH AND METHODOLOGY"},{"$f":"SHELL!T8","v":"PROJECT TEAM"},{"$f":"SHELL!U8","v":"COST CONTROL"},{"$f":"SHELL!V8","v":"PROJECT SCHEDULING"},{"$f":"SHELL!W8","v":"MWBE, LDB AND VBE IMPLEMENTATION PLAN"},"TOTAL"]
["ITEM","APPLICANTS","Assigned Weight",null,null,null,null,null,null,0.35,0.2,0.05,0.05,0.15,0.1,0.1,1,0.1,0.3,0.1,0.2,0.2,0.1,1]
[]
[1,{"$f":"SHELL!B11","v":0},"Rating",null,null,null,null,null,null,null,null,null,null,null,null,null,{"$f":"SUM(J14:P14)","v":0},null,null,null,null,null,null,{"$f":"SUM(R14:W14)","v":0},"Rating"]
[null,null,"Weighted Score",null,null,null,null,null,null,{"$f":"J$12*J14","v":0},0,0,0,0,0,{"$f":"P$12*P14","v":0},{"$f":"SUM(J15:P15)","v":0},{"$f":"R$12*R14","v":0},0,0,0,0,0,{"$f":"SUM(R15:W15)","v":0},"Weighted Score"]
[2,{"$f":"SHELL!B13","v":0},"Rating",null,null,null,null,null,null,null,null,null,null,null,null,null,0,null,null,null,null,null,null,0,"Rating"]
[null,null,"Weighted Score",null,null,null,null,null,null,{"$f":"J$12*J16","v":0},0,0,0,0,0,0,0,{"$f":"R$12*R16","v":0},0,0,0,0,0,0,"Weighted Score"]
[3,{"$f":"SHELL!B15","v":0},"Rating",null,null,null,null,null,null,null,null,null,null,null,null,null,0,null,null,null,null,null,null,0,"Rating"]
[null,null,"Weighted Score",null,null,null,null,null,null,{"$f":"J$12*J18","v":0},0,0,0,0,0,{"$f":"P$12*P18","v":0},0,{"$f":"R$12*R18","v":0},0,0,0,0,0,0,"Weighted Score"]
[4,{"$f":"SHELL!B17","v":0},"Rating",null,null,null,null,null,null,null,null,null,null,null,null,null,0,null,null,null,null,null,null,0,"Rating"]
[null,null,"Weighted Score",null,null,null,null,null,null,{"$f":"J$12*J20","v":0},0,0,0,0,0,{"$f":"P$12*P20","v":0},0,{"$f":"R$12*R20","v":0},0,0,0,0,0,0,"Weighted Score"]
[5,{"$f":"SHELL!B19","v":0},"Rating",null,null,null,null,null,null,null,null,null,null,null,null,null,0,null,null,null,null,null,null,0,"Rating"]
[null,null,"Weighted Score",null,null,null,null,null,null,{"$f":"J$12*J22","v":0},0,0,0,0,0,{"$f":"P$12*P22","v":0},0,{"$f":"R$12*R22","v":0},0,0,0,0,0,0,"Weighted Score"]
[6,{"$f":"SHELL!B21","v":0},"Rating",null,null,null,null,null,null,null,null,null,null,null,null,null,0,null,null,null,null,null,null,0,"Rating"]
[null,null,"Weighted Score",null,null,null,null,null,null,{"$f":"J$12*J24","v":0},0,0,0,0,0,{"$f":"P$12*P24","v":0},0,{"$f":"R$12*R24","v":0},0,0,0,0,0,0,"Weighted Score"]
[7,{"$f":"SHELL!B23","v":0},"Rating",null,null,null,null,null,null,null,null,null,null,null,null,null,0,null,null,null,null,null,null,0,"Rating"]
[null,null,"Weighted Score",null,null,null,null,null,null,{"$f":"J$12*J26","v":0},0,0,0,0,0,{"$f":"P$12*P26","v":0},0,{"$f":"R$12*R26","v":0},0,0,0,0,0,0,"Weighted Score"]
[8,{"$f":"SHELL!B25","v":0},"Rating",null,null,null,null,null,null,null,null,null,null,null,null,null,0,null,null,null,null,null,null,0,"Rating"]
[null,null,"Weighted Score",null,null,null,null,null,null,{"$f":"J$12*J28","v":0},0,0,0,0,0,{"$f":"P$12*P28","v":0},0,{"$f":"R$12*R28","v":0},0,0,0,0,0,0,"Weighted Score"]
[9,{"$f":"SHELL!B27","v":0},"Rating",null,null,null,null,null,null,null,null,null,null,null,null,null,0,null,null,null,null,null,null,0,"Rating"]
[null,null,"Weighted Score",null,null,null,null,null,null,{"$f":"J$12*J30","v":0},0,0,0,0,0,{"$f":"P$12*P30","v":0},0,{"$f":"R$12*R30","v":0},0,0,0,0,0,0,"Weighted Score"]
[10,{"$f":"SHELL!B29","v":0},"Rating",null,null,null,null,null,null,null,null,null,null,null,null,null,0,null,null,null,null,null,null,0,"Rating"]
[null,null,"Weighted Score",null,null,null,null,null,null,{"$f":"J$12*J32","v":0},0,0,0,0,0,{"$f":"P$12*P32","v":0},0,{"$f":"R$12*R32","v":0},0,0,0,0,0,0,"Weighted Score"]
[11,{"$f":"SHELL!B31","v":0},"Rating",null,null,null,null,null,null,null,null,null,null,null,null,null,0,null,null,null,null,null,null,0,"Rating"]
[null,null,"Weighted Score",null,null,null,null,null,null,{"$f":"J$12*J34","v":0},0,0,0,0,0,{"$f":"P$12*P34","v":0},0,{"$f":"R$12*R34","v":0},0,0,0,0,0,0,"Weighted Score"]
[12,{"$f":"SHELL!B33","v":0},"Rating",null,null,null,null,null,null,null,null,null,null,null,null,null,0,null,null,null,null,null,null,{"$f":"SUM(R36:W36)","v":0},"Rating"]
[null,null,"Weighted Score",null,null,null,null,null,null,{"$f":"J$12*J36","v":0},0,0,0,0,0,{"$f":"P$12*P36","v":0},0,{"$f":"R$12*R36","v":0},0,0,0,0,0,0,"Weighted Score"]
[13,{"$f":"SHELL!B35","v":0},"Rating",null,null,null,null,null,null,null,null,null,null,null,null,null,0,null,null,null,null,null,null,0,"Rating"]
[null,null,"Weighted Score",null,null,null,null,null,null,{"$f":"J$12*J38","v":0},0,0,0,0,0,{"$f":"P$12*P38","v":0},0,0,0,0,0,0,0,0,"Weighted Score"]
[14,{"$f":"SHELL!B37","v":0},"Rating",null,null,null,null,null,null,null,null,null,null,null,null,null,0,null,null,null,null,null,null,0,"Rating"]
[null,null,"Weighted Score",null,null,null,null,null,null,{"$f":"J$12*J40","v":0},0,0,0,0,0,{"$f":"P$12*P40","v":0},0,{"$f":"R$12*R40","v":0},0,0,0,0,0,0,"Weighted Score"]
[15,{"$f":"SHELL!B39","v":0},"Rating",null,null,null,null,null,null,null,null,null,null,null,null,null,0,null,null,null,null,null,null,0,"Rating"]
[null,null,"Weighted Score",null,null,null,null,null,null,{"$f":"J$12*J42","v":0},0,0,0,0,0,{"$f":"P$12*P42","v":0},0,{"$f":"R$12*R42","v":0},0,0,0,0,0,0,"Weighted Score"]
[16,{"$f":"SHELL!B41","v":0},"Rating",null,null,null,null,null,null,null,null,null,null,null,null,null,0,null,null,null,null,null,null,0,"Rating"]
[null,null,"Weighted Score",null,null,null,null,null,null,{"$f":"J$12*J44","v":0},0,0,0,0,0,{"$f":"P$12*P44","v":0},0,{"$f":"R$12*R44","v":0},0,0,0,0,0,0,"Weighted Score"]
[17,{"$f":"SHELL!B43","v":0},"Rating",null,null,null,null,null,null,null,null,null,null,null,null,null,0,null,null,null,null,null,null,0,"Rating"]
[null,null,"Weighted Score",null,null,null,null,null,null,{"$f":"J$12*J46","v":0},0,0,0,0,0,{"$f":"P$12*P46","v":0},0,{"$f":"R$12*R46","v":0},0,0,0,0,0,0,"Weighted Score"]
[18,{"$f":"SHELL!B45","v":0},"Rating",null,null,null,null,null,null,null,null,null,null,null,null,null,0,null,null,null,null,null,null,0,"Rating"]
[null,null,"Weighted Score",null,null,null,null,null,null,{"$f":"J$12*J48","v":0},0,0,0,0,0,{"$f":"P$12*P48","v":0},0,{"$f":"R$12*R48","v":0},0,0,0,0,0,0,"Weighted Score"]
[19,{"$f":"SHELL!B47","v":0},"Rating",null,null,null,null,null,null,null,null,null,null,null,null,null,0,null,null,null,null,null,null,0,"Rating"]
[null,null,"Weighted Score",null,null,null,null,null,null,{"$f":"J$12*J50","v":0},0,0,0,0,0,{"$f":"P$12*P50","v":0},0,{"$f":"R$12*R50","v":0},0,0,0,0,0,0,"Weighted Score"]
[20,{"$f":"SHELL!B49","v":0},"Rating",null,null,null,null,null,null,null,null,null,null,null,null,null,0,null,null,null,null,null,null,0,"Rating"]
[null,null,"Weighted Score",null,null,null,null,null,null,{"$f":"J$12*J52","v":0},0,0,0,0,0,{"$f":"P$12*P52","v":0},0,{"$f":"R$12*R52","v":0},0,0,0,0,0,0,"Weighted Score"]

{"sheet":"2","index":6,"n_rows":53,"n_cols":25,"rows_kept":53,"cut":false,"hidden":false,"merged":[[27,1,28,1],[2,17,2,22],[15,1,16,1],[23,1,24,1],[9,17,9,23],[9,9,9,16],[2,9,2,16],[13,1,14,1],[9,3,9,8],[10,0,10,2],[13,0,14,0],[15,0,16,0],[17,0,18,0],[17,1,18,1],[19,0,20,0],[19,1,20,1],[37,0,38,0],[37,1,38,1],[21,0,22,0],[21,1,22,1],[23,0,24,0],[25,0,26,0],[25,1,26,1],[29,0,30,0],[31,0,32,0],[33,0,34,0],[29,1,30,1],[31,1,32,1],[33,1,34,1],[35,0,36,0],[35,1,36,1],[27,0,28,0],[39,0,40,0],[39,1,40,1],[41,0,42,0],[41,1,42,1],[43,0,44,0],[43,1,44,1],[51,0,52,0],[51,1,52,1],[45,0,46,0],[45,1,46,1],[47,0,48,0],[47,1,48,1],[49,0,50,0],[49,1,50,1]]}
[]
[]
[" #2","Enter Name"]
[]
[]
[]
[]
["Scale:  Rate each applicant on a scale from 1 (lowest) to 20 (highest)"]
[]
[null,null,null,"COMPLIANCE",null,null,null,null,null,"INITIAL SCREENING",null,null,null,null,null,null,null,"INTERVIEW AND PRESENTATION"]
[{"$f":"SHELL!B1","v":"Project Name: "},null,null,{"$f":"SHELL!D8","v":"CERTIFICATE BY THE FLA SECRETARY OF STATE"},{"$f":"SHELL!E8","v":"TYPE OF BUSINESS"},{"$f":"SHELL!F8","v":"REQUIRED VALID LICENSE - GC"},{"$f":"SHELL!G8","v":"BONDING CAPACITY"},{"$f":"SHELL!H8","v":"LOCATION/ADDRESS & PHONE# OF FIRM'S                                                                                                 OFFICES"},{"$f":"SHELL!I8","v":"OWNERS/OFFICERS & PRINCIPALS IN CHG."},{"$f":"SHELL!J8","v":"RELATED EXPERIENCE"},{"$f":"SHELL!K8","v":"PROPOSED PROJECT STAFF & FUNCTIONS "},{"$f":"SHELL!L8","v":"WORKLOAD"},"EQUITABLE DISTRIBUTION",{"$f":"SHELL!N8","v":"FINANCIAL CAPABILITIES AND COST CONTRAL MEASURES"},{"$f":"SHELL!O8","v":"MWBE, LDB AND VBE BUSINESS HISTORY"},{"$f":"SHELL!P8","v":"LOCAL PREFERENCE POLICY SCORE"},"TOTAL",{"$f":"SHELL!R8","v":"REFERENCES"},{"$f":"SHELL!S8","v":"OVERALL APPROACH AND METHODOLOGY"},{"$f":"SHELL!T8","v":"PROJECT TEAM"},{"$f":"SHELL!U8","v":"COST CONTROL"},{"$f":"SHELL!V8","v":"PROJECT SCHEDULING"},{"$f":"SHELL!W8","v":"MWBE, LDB AND VBE IMPLEMENTATION PLAN"},"TOTAL"]
["ITEM","APPLICANTS","Assigned Weight",null,null,null,null,null,null,0.35,0.2,0.05,0.05,0.15,0.1,0.1,1,0.1,0.3,0.1,0.2,0.2,0.1,1]
[]
[1,{"$f":"SHELL!B11","v":0},"Rating",null,null,null,null,null,null,null,null,null,null,null,null,null,{"$f":"SUM(J14:O14)","v":0},null,null,null,null,null,null,{"$f":"SUM(R14:W14)","v":0},"Rating"]
[null,null,"Weighted Score",null,null,null,null,null,null,{"$f":"J$12*J14","v":0},0,0,0,0,0,{"$f":"P$12*P14","v":0},0,{"$f":"R$12*R14","v":0},0,0,0,0,0,{"$f":"SUM(R15:W15)","v":0},"Weighted Score"]
[2,{"$f":"SHELL!B13","v":0},"Rating",null,null,null,null,null,null,null,null,null,null,null,null,null,0,null,null,null,null,null,null,0,"Rating"]
[null,null,"Weighted Score",null,null,null,null,null,null,{"$f":"J$12*J16","v":0},0,0,0,0,0,{"$f":"P$12*P16","v":0},0,{"$f":"R$12*R16","v":0},0,0,0,0,0,0,"Weighted Score"]
[3,{"$f":"SHELL!B15","v":0},"Rating",null,null,null,null,null,null,null,null,null,null,null,null,null,0,null,null,null,null,null,null,0,"Rating"]
[null,null,"Weighted Score",null,null,null,null,null,null,{"$f":"J$12*J18","v":0},0,0,0,0,0,{"$f":"P$12*P18","v":0},0,{"$f":"R$12*R18","v":0},0,0,0,0,0,0,"Weighted Score"]
[4,{"$f":"SHELL!B17","v":0},"Rating",null,null,null,null,null,null,null,null,null,null,null,null,null,0,null,null,null,null,null,null,0,"Rating"]
[null,null,"Weighted Score",null,null,null,null,null,null,{"$f":"J$12*J20","v":0},0,0,0,0,0,{"$f":"P$12*P20","v":0},0,{"$f":"R$12*R20","v":0},0,0,0,0,0,0,"Weighted Score"]
[5,{"$f":"SHELL!B19","v":0},"Rating",null,null,null,null,null,null,null,null,null,null,null,null,null,0,null,null,null,null,null,null,0,"Rating"]
[null,null,"Weighted Score",null,null,null,null,null,null,{"$f":"J$12*J22","v":0},0,0,0,0,0,{"$f":"P$12*P22","v":0},0,{"$f":"R$12*R22","v":0},0,0,0,0,0,0,"Weighted Score"]
[6,{"$f":"SHELL!B21","v":0},"Rating",null,null,null,null,null,null,null,null,null,null,null,null,null,0,null,null,null,null,null,null,0,"Rating"]
[null,null,"Weighted Score",null,null,null,null,null,null,{"$f":"J$12*J24","v":0},0,0,0,0,0,{"$f":"P$12*P24","v":0},0,{"$f":"R$12*R24","v":0},0,0,0,0,0,0,"Weighted Score"]
[7,{"$f":"SHELL!B23","v":0},"Rating",null,null,null,null,null,null,null,null,null,null,null,null,null,0,null,null,null,null,null,null,0,"Rating"]
[null,null,"Weighted Score",null,null,null,null,null,null,{"$f":"J$12*J26","v":0},0,0,0,0,0,{"$f":"P$12*P26","v":0},0,{"$f":"R$12*R26","v":0},0,0,0,0,0,0,"Weighted Score"]
[8,{"$f":"SHELL!B25","v":0},"Rating",null,null,null,null,null,null,null,null,null,null,null,null,null,0,null,null,null,null,null,null,0,"Rating"]
[null,null,"Weighted Score",null,null,null,null,null,null,{"$f":"J$12*J28","v":0},0,0,0,0,0,{"$f":"P$12*P28","v":0},0,{"$f":"R$12*R28","v":0},0,0,0,0,0,0,"Weighted Score"]
[9,{"$f":"SHELL!B27","v":0},"Rating",null,null,null,null,null,null,null,null,null,null,null,null,null,0,null,null,null,null,null,null,0,"Rating"]
[null,null,"Weighted Score",null,null,null,null,null,null,{"$f":"J$12*J30","v":0},0,0,0,0,0,{"$f":"P$12*P30","v":0},0,{"$f":"R$12*R30","v":0},0,0,0,0,0,0,"Weighted Score"]
[10,{"$f":"SHELL!B29","v":0},"Rating",null,null,null,null,null,null,null,null,null,null,null,null,null,0,null,null,null,null,null,null,0,"Rating"]
[null,null,"Weighted Score",null,null,null,null,null,null,{"$f":"J$12*J32","v":0},0,0,0,0,0,{"$f":"P$12*P32","v":0},0,{"$f":"R$12*R32","v":0},0,0,0,0,0,0,"Weighted Score"]
[11,{"$f":"SHELL!B31","v":0},"Rating",null,null,null,null,null,null,null,null,null,null,null,null,null,0,null,null,null,null,null,null,0,"Rating"]
[null,null,"Weighted Score",null,null,null,null,null,null,{"$f":"J$12*J34","v":0},0,0,0,0,0,{"$f":"P$12*P34","v":0},0,{"$f":"R$12*R34","v":0},0,0,0,0,0,0,"Weighted Score"]
[12,{"$f":"SHELL!B33","v":0},"Rating",null,null,null,null,null,null,null,null,null,null,null,null,null,0,null,null,null,null,null,null,0,"Rating"]
[null,null,"Weighted Score",null,null,null,null,null,null,{"$f":"J$12*J36","v":0},0,0,0,0,0,{"$f":"P$12*P36","v":0},0,{"$f":"R$12*R36","v":0},0,0,0,0,0,0,"Weighted Score"]
[13,{"$f":"SHELL!B35","v":0},"Rating",null,null,null,null,null,null,null,null,null,null,null,null,null,0,null,null,null,null,null,null,0,"Rating"]
[null,null,"Weighted Score",null,null,null,null,null,null,{"$f":"J$12*J38","v":0},0,0,0,0,0,{"$f":"P$12*P38","v":0},0,0,0,0,0,0,0,0,"Weighted Score"]
[14,{"$f":"SHELL!B37","v":0},"Rating",null,null,null,null,null,null,null,null,null,null,null,null,null,0,null,null,null,null,null,null,{"$f":"SUM(R40:W40)","v":0},"Rating"]
[null,null,"Weighted Score",null,null,null,null,null,null,{"$f":"J$12*J40","v":0},0,0,0,0,0,{"$f":"P$12*P40","v":0},0,{"$f":"R$12*R40","v":0},0,0,0,0,0,0,"Weighted Score"]
[15,{"$f":"SHELL!B39","v":0},"Rating",null,null,null,null,null,null,null,null,null,null,null,null,null,0,null,null,null,null,null,null,0,"Rating"]
[null,null,"Weighted Score",null,null,null,null,null,null,{"$f":"J$12*J42","v":0},0,0,0,0,0,{"$f":"P$12*P42","v":0},0,{"$f":"R$12*R42","v":0},0,0,0,0,0,0,"Weighted Score"]
[16,{"$f":"SHELL!B41","v":0},"Rating",null,null,null,null,null,null,null,null,null,null,null,null,null,0,null,null,null,null,null,null,0,"Rating"]
[null,null,"Weighted Score",null,null,null,null,null,null,{"$f":"J$12*J44","v":0},0,0,0,0,0,{"$f":"P$12*P44","v":0},0,{"$f":"R$12*R44","v":0},0,0,0,0,0,0,"Weighted Score"]
[17,{"$f":"SHELL!B43","v":0},"Rating",null,null,null,null,null,null,null,null,null,null,null,null,null,0,null,null,null,null,null,null,0,"Rating"]
[null,null,"Weighted Score",null,null,null,null,null,null,{"$f":"J$12*J46","v":0},0,0,0,0,0,{"$f":"P$12*P46","v":0},0,{"$f":"R$12*R46","v":0},0,0,0,0,0,0,"Weighted Score"]
[18,{"$f":"SHELL!B45","v":0},"Rating",null,null,null,null,null,null,null,null,null,null,null,null,null,0,null,null,null,null,null,null,0,"Rating"]
[null,null,"Weighted Score",null,null,null,null,null,null,{"$f":"J$12*J48","v":0},0,0,0,0,0,{"$f":"P$12*P48","v":0},0,{"$f":"R$12*R48","v":0},0,0,0,0,0,0,"Weighted Score"]
[19,{"$f":"SHELL!B47","v":0},"Rating",null,null,null,null,null,null,null,null,null,null,null,null,null,0,null,null,null,null,null,null,0,"Rating"]
[null,null,"Weighted Score",null,null,null,null,null,null,{"$f":"J$12*J50","v":0},0,0,0,0,0,{"$f":"P$12*P50","v":0},0,{"$f":"R$12*R50","v":0},0,0,0,0,0,0,"Weighted Score"]
[20,{"$f":"SHELL!B49","v":0},"Rating",null,null,null,null,null,null,null,null,null,null,null,null,null,0,null,null,null,null,null,null,0,"Rating"]
[null,null,"Weighted Score",null,null,null,null,null,null,{"$f":"J$12*J52","v":0},0,0,0,0,0,{"$f":"P$12*P52","v":0},0,{"$f":"R$12*R52","v":0},0,0,0,0,0,0,"Weighted Score"]

{"sheet":"3","index":7,"n_rows":53,"n_cols":25,"rows_kept":53,"cut":false,"hidden":false,"merged":[[23,0,24,0],[25,0,26,0],[31,1,32,1],[17,1,18,1],[15,1,16,1],[19,0,20,0],[19,1,20,1],[21,1,22,1],[2,17,2,22],[13,0,14,0],[13,1,14,1],[9,3,9,8],[10,0,10,2],[2,9,2,16],[37,1,38,1],[15,0,16,0],[23,1,24,1],[21,0,22,0],[37,0,38,0],[17,0,18,0],[25,1,26,1],[33,1,34,1],[27,0,28,0],[29,0,30,0],[31,0,32,0],[33,0,34,0],[27,1,28,1],[29,1,30,1],[35,0,36,0],[35,1,36,1],[39,0,40,0],[39,1,40,1],[41,0,42,0],[41,1,42,1],[43,0,44,0],[43,1,44,1],[51,0,52,0],[51,1,52,1],[45,0,46,0],[45,1,46,1],[47,0,48,0],[47,1,48,1],[49,0,50,0],[49,1,50,1]]}
[]
[]
[" #3","Enter Name"]
[]
[]
[]
[]
["Scale:  Rate each applicant on a scale from 1 (lowest) to 20 (highest)"]
[]
[null,null,null,"COMPLIANCE",null,null,null,null,null,null,"INITIAL SCREENING",null,null,null,null,null,null,"INTERVIEW AND PRESENTATION"]
[{"$f":"SHELL!B1","v":"Project Name: "},null,null,{"$f":"SHELL!D8","v":"CERTIFICATE BY THE FLA SECRETARY OF STATE"},{"$f":"SHELL!E8","v":"TYPE OF BUSINESS"},{"$f":"SHELL!F8","v":"REQUIRED VALID LICENSE - GC"},{"$f":"SHELL!G8","v":"BONDING CAPACITY"},{"$f":"SHELL!H8","v":"LOCATION/ADDRESS & PHONE# OF FIRM'S                                                                                                 OFFICES"},{"$f":"SHELL!I8","v":"OWNERS/OFFICERS & PRINCIPALS IN CHG."},{"$f":"SHELL!J8","v":"RELATED EXPERIENCE"},{"$f":"SHELL!K8","v":"PROPOSED PROJECT STAFF & FUNCTIONS "},{"$f":"SHELL!L8","v":"WORKLOAD"},{"$f":"SHELL!M8","v":"EQUITABLE DISTRIBUTION"},{"$f":"SHELL!N8","v":"FINANCIAL CAPABILITIES AND COST CONTRAL MEASURES"},{"$f":"SHELL!O8","v":"MWBE, LDB AND VBE BUSINESS HISTORY"},{"$f":"SHELL!P8","v":"LOCAL PREFERENCE POLICY SCORE"},{"$f":"SHELL!Q8","v":"TOTAL"},{"$f":"SHELL!R8","v":"REFERENCES"},{"$f":"SHELL!S8","v":"OVERALL APPROACH AND METHODOLOGY"},{"$f":"SHELL!T8","v":"PROJECT TEAM"},{"$f":"SHELL!U8","v":"COST CONTROL"},{"$f":"SHELL!V8","v":"PROJECT SCHEDULING"},{"$f":"SHELL!W8","v":"MWBE, LDB AND VBE IMPLEMENTATION PLAN"},"TOTAL"]
["ITEM","APPLICANTS","Assigned Weight",null,null,null,null,null,null,0.35,0.2,0.05,0.05,0.15,0.1,0.1,1,0.1,0.3,0.1,0.2,0.2,0.1,1]
[]
[1,{"$f":"SHELL!B11","v":0},"Rating",null,null,null,null,null,null,null,null,null,null,null,null,null,{"$f":"SUM(J14:O14)","v":0},null,null,null,null,null,null,{"$f":"SUM(R14:W14)","v":0},"Rating"]
[null,null,"Weighted Score",null,null,null,null,null,null,{"$f":"J$12*J14","v":0},0,0,0,0,0,{"$f":"P$12*P14","v":0},0,{"$f":"R$12*R14","v":0},0,0,0,0,0,{"$f":"SUM(R15:W15)","v":0},"Weighted Score"]
[2,{"$f":"SHELL!B13","v":0},"Rating",null,null,null,null,null,null,null,null,null,null,null,null,null,0,null,null,null,null,null,null,0,"Rating"]
[null,null,"Weighted Score",null,null,null,null,null,null,{"$f":"J$12*J16","v":0},0,0,0,0,0,{"$f":"P$12*P16","v":0},0,{"$f":"R$12*R16","v":0},0,0,0,0,0,0,"Weighted Score"]
[3,{"$f":"SHELL!B15","v":0},"Rating",null,null,null,null,null,null,null,null,null,null,null,null,null,0,null,null,null,null,null,null,0,"Rating"]
[null,null,"Weighted Score",null,null,null,null,null,null,{"$f":"J$12*J18","v":0},0,0,0,0,0,{"$f":"P$12*P18","v":0},0,{"$f":"R$12*R18","v":0},0,0,0,0,0,0,"Weighted Score"]
[4,{"$f":"SHELL!B17","v":0},"Rating",null,null,null,null,null,null,null,null,null,null,null,null,null,0,null,null,null,null,null,null,0,"Rating"]
[null,null,"Weighted Score",null,null,null,null,null,null,{"$f":"J$12*J20","v":0},0,0,0,0,0,{"$f":"P$12*P20","v":0},0,{"$f":"R$12*R20","v":0},0,0,0,0,0,0,"Weighted Score"]
[5,{"$f":"SHELL!B19","v":0},"Rating",null,null,null,null,null,null,null,null,null,null,null,null,null,0,null,null,null,null,null,null,0,"Rating"]
[null,null,"Weighted Score",null,null,null,null,null,null,{"$f":"J$12*J22","v":0},0,0,0,0,0,{"$f":"P$12*P22","v":0},0,{"$f":"R$12*R22","v":0},0,0,0,0,0,0,"Weighted Score"]
[6,{"$f":"SHELL!B21","v":0},"Rating",null,null,null,null,null,null,null,null,null,null,null,null,null,0,null,null,null,null,null,null,0,"Rating"]
[null,null,"Weighted Score",null,null,null,null,null,null,{"$f":"J$12*J24","v":0},0,0,0,0,0,{"$f":"P$12*P24","v":0},0,{"$f":"R$12*R24","v":0},0,0,0,0,0,0,"Weighted Score"]
[7,{"$f":"SHELL!B23","v":0},"Rating",null,null,null,null,null,null,null,null,null,null,null,null,null,0,null,null,null,null,null,null,0,"Rating"]
[null,null,"Weighted Score",null,null,null,null,null,null,{"$f":"J$12*J26","v":0},0,0,0,0,0,{"$f":"P$12*P26","v":0},0,{"$f":"R$12*R26","v":0},0,0,0,0,0,0,"Weighted Score"]
[8,{"$f":"SHELL!B25","v":0},"Rating",null,null,null,null,null,null,null,null,null,null,null,null,null,0,null,null,null,null,null,null,0,"Rating"]
[null,null,"Weighted Score",null,null,null,null,null,null,{"$f":"J$12*J28","v":0},0,0,0,0,0,{"$f":"P$12*P28","v":0},0,{"$f":"R$12*R28","v":0},0,0,0,0,0,0,"Weighted Score"]
[9,{"$f":"SHELL!B27","v":0},"Rating",null,null,null,null,null,null,null,null,null,null,null,null,null,0,null,null,null,null,null,null,0,"Rating"]
[null,null,"Weighted Score",null,null,null,null,null,null,{"$f":"J$12*J30","v":0},0,0,0,0,0,{"$f":"P$12*P30","v":0},0,{"$f":"R$12*R30","v":0},0,0,0,0,0,0,"Weighted Score"]
[10,{"$f":"SHELL!B29","v":0},"Rating",null,null,null,null,null,null,null,null,null,null,null,null,null,0,null,null,null,null,null,null,0,"Rating"]
[null,null,"Weighted Score",null,null,null,null,null,null,{"$f":"J$12*J32","v":0},0,0,0,0,0,{"$f":"P$12*P32","v":0},0,{"$f":"R$12*R32","v":0},0,0,0,0,0,0,"Weighted Score"]
[11,{"$f":"SHELL!B31","v":0},"Rating",null,null,null,null,null,null,null,null,null,null,null,null,null,0,null,null,null,null,null,null,0,"Rating"]
[null,null,"Weighted Score",null,null,null,null,null,null,{"$f":"J$12*J34","v":0},0,0,0,0,0,{"$f":"P$12*P34","v":0},0,{"$f":"R$12*R34","v":0},0,0,0,0,0,0,"Weighted Score"]
[12,{"$f":"SHELL!B33","v":0},"Rating",null,null,null,null,null,null,null,null,null,null,null,null,null,0,null,null,null,null,null,null,0,"Rating"]
[null,null,"Weighted Score",null,null,null,null,null,null,{"$f":"J$12*J36","v":0},0,0,0,0,0,{"$f":"P$12*P36","v":0},0,{"$f":"R$12*R36","v":0},0,0,0,0,0,0,"Weighted Score"]
[13,{"$f":"SHELL!B35","v":0},"Rating",null,null,null,null,null,null,null,null,null,null,null,null,null,0,null,null,null,null,null,null,0,"Rating"]
[null,null,"Weighted Score",null,null,null,null,null,null,{"$f":"J$12*J38","v":0},0,0,0,0,0,{"$f":"P$12*P38","v":0},0,0,0,0,0,0,0,0,"Weighted Score"]
[14,{"$f":"SHELL!B37","v":0},"Rating",null,null,null,null,null,null,null,null,null,null,null,null,null,0,null,null,null,null,null,null,{"$f":"SUM(R40:W40)","v":0},"Rating"]
[null,null,"Weighted Score",null,null,null,null,null,null,{"$f":"J$12*J40","v":0},0,0,0,0,0,{"$f":"P$12*P40","v":0},0,{"$f":"R$12*R40","v":0},0,0,0,0,0,0,"Weighted Score"]
[15,{"$f":"SHELL!B39","v":0},"Rating",null,null,null,null,null,null,null,null,null,null,null,null,null,0,null,null,null,null,null,null,0,"Rating"]
[null,null,"Weighted Score",null,null,null,null,null,null,{"$f":"J$12*J42","v":0},0,0,0,0,0,{"$f":"P$12*P42","v":0},0,{"$f":"R$12*R42","v":0},0,0,0,0,0,0,"Weighted Score"]
[16,{"$f":"SHELL!B41","v":0},"Rating",null,null,null,null,null,null,null,null,null,null,null,null,null,0,null,null,null,null,null,null,0,"Rating"]
[null,null,"Weighted Score",null,null,null,null,null,null,{"$f":"J$12*J44","v":0},0,0,0,0,0,{"$f":"P$12*P44","v":0},0,{"$f":"R$12*R44","v":0},0,0,0,0,0,0,"Weighted Score"]
[17,{"$f":"SHELL!B43","v":0},"Rating",null,null,null,null,null,null,null,null,null,null,null,null,null,0,null,null,null,null,null,null,0,"Rating"]
[null,null,"Weighted Score",null,null,null,null,null,null,{"$f":"J$12*J46","v":0},0,0,0,0,0,{"$f":"P$12*P46","v":0},0,{"$f":"R$12*R46","v":0},0,0,0,0,0,0,"Weighted Score"]
[18,{"$f":"SHELL!B45","v":0},"Rating",null,null,null,null,null,null,null,null,null,null,null,null,null,0,null,null,null,null,null,null,0,"Rating"]
[null,null,"Weighted Score",null,null,null,null,null,null,{"$f":"J$12*J48","v":0},0,0,0,0,0,{"$f":"P$12*P48","v":0},0,{"$f":"R$12*R48","v":0},0,0,0,0,0,0,"Weighted Score"]
[19,{"$f":"SHELL!B47","v":0},"Rating",null,null,null,null,null,null,null,null,null,null,null,null,null,0,null,null,null,null,null,null,0,"Rating"]
[null,null,"Weighted Score",null,null,null,null,null,null,{"$f":"J$12*J50","v":0},0,0,0,0,0,{"$f":"P$12*P50","v":0},0,{"$f":"R$12*R50","v":0},0,0,0,0,0,0,"Weighted Score"]
[20,{"$f":"SHELL!B49","v":0},"Rating",null,null,null,null,null,null,null,null,null,null,null,null,null,0,null,null,null,null,null,null,0,"Rating"]
[null,null,"Weighted Score",null,null,null,null,null,null,{"$f":"J$12*J52","v":0},0,0,0,0,0,{"$f":"P$12*P52","v":0},0,{"$f":"R$12*R52","v":0},0,0,0,0,0,0,"Weighted Score"]

{"sheet":" 4","index":8,"n_rows":53,"n_cols":25,"rows_kept":53,"cut":false,"hidden":false,"merged":[[15,0,16,0],[17,0,18,0],[17,1,18,1],[15,1,16,1],[19,0,20,0],[19,1,20,1],[2,17,2,22],[13,0,14,0],[13,1,14,1],[9,3,9,8],[9,17,9,22],[10,0,10,2],[2,9,2,16],[21,0,22,0],[21,1,22,1],[27,1,28,1],[27,0,28,0],[29,0,30,0],[23,0,24,0],[25,0,26,0],[25,1,26,1],[23,1,24,1],[37,0,38,0],[37,1,38,1],[33,0,34,0],[29,1,30,1],[31,1,32,1],[33,1,34,1],[35,0,36,0],[35,1,36,1],[31,0,32,0],[39,0,40,0],[39,1,40,1],[41,0,42,0],[41,1,42,1],[43,0,44,0],[43,1,44,1],[51,0,52,0],[51,1,52,1],[45,0,46,0],[45,1,46,1],[47,0,48,0],[47,1,48,1],[49,0,50,0],[49,1,50,1]]}
[]
[]
["#4","Enter Name"]
[]
[]
[]
[]
["Scale:  Rate each applicant on a scale from 1 (lowest) to 20 (highest)"]
[]
[null,null,null,"COMPLIANCE",null,null,null,null,null,null,"INITIAL SCREENING",null,null,null,null,null,null,"INTERVIEW AND PRESENTATION"]
[{"$f":"SHELL!B1","v":"Project Name: "},null,null,{"$f":"SHELL!D8","v":"CERTIFICATE BY THE FLA SECRETARY OF STATE"},{"$f":"SHELL!E8","v":"TYPE OF BUSINESS"},{"$f":"SHELL!F8","v":"REQUIRED VALID LICENSE - GC"},{"$f":"SHELL!G8","v":"BONDING CAPACITY"},{"$f":"SHELL!H8","v":"LOCATION/ADDRESS & PHONE# OF FIRM'S                                                                                                 OFFICES"},{"$f":"SHELL!I8","v":"OWNERS/OFFICERS & PRINCIPALS IN CHG."},{"$f":"SHELL!J8","v":"RELATED EXPERIENCE"},{"$f":"SHELL!K8","v":"PROPOSED PROJECT STAFF & FUNCTIONS "},{"$f":"SHELL!L8","v":"WORKLOAD"},{"$f":"SHELL!M8","v":"EQUITABLE DISTRIBUTION"},{"$f":"SHELL!N8","v":"FINANCIAL CAPABILITIES AND COST CONTRAL MEASURES"},{"$f":"SHELL!O8","v":"MWBE, LDB AND VBE BUSINESS HISTORY"},{"$f":"SHELL!P8","v":"LOCAL PREFERENCE POLICY SCORE"},{"$f":"SHELL!Q8","v":"TOTAL"},{"$f":"SHELL!R8","v":"REFERENCES"},{"$f":"SHELL!S8","v":"OVERALL APPROACH AND METHODOLOGY"},{"$f":"SHELL!T8","v":"PROJECT TEAM"},{"$f":"SHELL!U8","v":"COST CONTROL"},{"$f":"SHELL!V8","v":"PROJECT SCHEDULING"},{"$f":"SHELL!W8","v":"MWBE, LDB AND VBE IMPLEMENTATION PLAN"},"TOTAL"]
["ITEM","APPLICANTS","Assigned Weight",null,null,null,null,null,null,0.35,0.2,0.05,0.05,0.15,0.1,0.1,1,0.1,0.3,0.1,0.2,0.2,0.1,1]
[]
[1,{"$f":"SHELL!B11","v":0},"Rating",null,null,null,null,null,null,null,null,null,null,null,null,null,{"$f":"SUM(J14:O14)","v":0},null,null,null,null,null,null,{"$f":"SUM(R14:W14)","v":0},"Rating"]
[null,null,"Weighted Score",null,null,null,null,null,null,{"$f":"J$12*J14","v":0},0,0,0,0,0,{"$f":"P$12*P14","v":0},0,{"$f":"R$12*R14","v":0},0,0,0,0,0,{"$f":"SUM(R15:W15)","v":0},"Weighted Score"]
[2,{"$f":"SHELL!B13","v":0},"Rating",null,null,null,null,null,null,null,null,null,null,null,null,null,0,null,null,null,null,null,null,0,"Rating"]
[null,null,"Weighted Score",null,null,null,null,null,null,{"$f":"J$12*J16","v":0},0,0,0,0,0,{"$f":"P$12*P16","v":0},0,{"$f":"R$12*R16","v":0},0,0,0,0,0,0,"Weighted Score"]
[3,{"$f":"SHELL!B15","v":0},"Rating",null,null,null,null,null,null,null,null,null,null,null,null,null,0,null,null,null,null,null,null,0,"Rating"]
[null,null,"Weighted Score",null,null,null,null,null,null,{"$f":"J$12*J18","v":0},0,0,0,0,0,{"$f":"P$12*P18","v":0},0,{"$f":"R$12*R18","v":0},0,0,0,0,0,0,"Weighted Score"]
[4,{"$f":"SHELL!B17","v":0},"Rating",null,null,null,null,null,null,null,null,null,null,null,null,null,0,null,null,null,null,null,null,0,"Rating"]
[null,null,"Weighted Score",null,null,null,null,null,null,{"$f":"J$12*J20","v":0},0,0,0,0,0,{"$f":"P$12*P20","v":0},0,{"$f":"R$12*R20","v":0},0,0,0,0,0,0,"Weighted Score"]
[5,{"$f":"SHELL!B19","v":0},"Rating",null,null,null,null,null,null,null,null,null,null,null,null,null,0,null,null,null,null,null,null,0,"Rating"]
[null,null,"Weighted Score",null,null,null,null,null,null,{"$f":"J$12*J22","v":0},0,0,0,0,0,{"$f":"P$12*P22","v":0},0,{"$f":"R$12*R22","v":0},0,0,0,0,0,0,"Weighted Score"]
[6,{"$f":"SHELL!B21","v":0},"Rating",null,null,null,null,null,null,null,null,null,null,null,null,null,0,null,null,null,null,null,null,0,"Rating"]
[null,null,"Weighted Score",null,null,null,null,null,null,{"$f":"J$12*J24","v":0},0,0,0,0,0,{"$f":"P$12*P24","v":0},0,{"$f":"R$12*R24","v":0},0,0,0,0,0,0,"Weighted Score"]
[7,{"$f":"SHELL!B23","v":0},"Rating",null,null,null,null,null,null,null,null,null,null,null,null,null,0,null,null,null,null,null,null,0,"Rating"]
[null,null,"Weighted Score",null,null,null,null,null,null,{"$f":"J$12*J26","v":0},0,0,0,0,0,{"$f":"P$12*P26","v":0},0,{"$f":"R$12*R26","v":0},0,0,0,0,0,0,"Weighted Score"]
[8,{"$f":"SHELL!B25","v":0},"Rating",null,null,null,null,null,null,null,null,null,null,null,null,null,0,null,null,null,null,null,null,0,"Rating"]
[null,null,"Weighted Score",null,null,null,null,null,null,{"$f":"J$12*J28","v":0},0,0,0,0,0,{"$f":"P$12*P28","v":0},0,{"$f":"R$12*R28","v":0},0,0,0,0,0,0,"Weighted Score"]
[9,{"$f":"SHELL!B27","v":0},"Rating",null,null,null,null,null,null,null,null,null,null,null,null,null,0,null,null,null,null,null,null,0,"Rating"]
[null,null,"Weighted Score",null,null,null,null,null,null,{"$f":"J$12*J30","v":0},0,0,0,0,0,{"$f":"P$12*P30","v":0},0,{"$f":"R$12*R30","v":0},0,0,0,0,0,0,"Weighted Score"]
[10,{"$f":"SHELL!B29","v":0},"Rating",null,null,null,null,null,null,null,null,null,null,null,null,null,0,null,null,null,null,null,null,0,"Rating"]
[null,null,"Weighted Score",null,null,null,null,null,null,{"$f":"J$12*J32","v":0},0,0,0,0,0,{"$f":"P$12*P32","v":0},0,{"$f":"R$12*R32","v":0},0,0,0,0,0,0,"Weighted Score"]
[11,{"$f":"SHELL!B31","v":0},"Rating",null,null,null,null,null,null,null,null,null,null,null,null,null,0,null,null,null,null,null,null,0,"Rating"]
[null,null,"Weighted Score",null,null,null,null,null,null,{"$f":"J$12*J34","v":0},0,0,0,0,0,{"$f":"P$12*P34","v":0},0,{"$f":"R$12*R34","v":0},0,0,0,0,0,0,"Weighted Score"]
[12,{"$f":"SHELL!B33","v":0},"Rating",null,null,null,null,null,null,null,null,null,null,null,null,null,0,null,null,null,null,null,null,0,"Rating"]
[null,null,"Weighted Score",null,null,null,null,null,null,{"$f":"J$12*J36","v":0},0,0,0,0,0,{"$f":"P$12*P36","v":0},0,{"$f":"R$12*R36","v":0},0,0,0,0,0,0,"Weighted Score"]
[13,{"$f":"SHELL!B35","v":0},"Rating",null,null,null,null,null,null,null,null,null,null,null,null,null,0,null,null,null,null,null,null,0,"Rating"]
[null,null,"Weighted Score",null,null,null,null,null,null,{"$f":"J$12*J38","v":0},0,0,0,0,0,{"$f":"P$12*P38","v":0},0,0,0,0,0,0,0,0,"Weighted Score"]
[14,{"$f":"SHELL!B37","v":0},"Rating",null,null,null,null,null,null,null,null,null,null,null,null,null,0,null,null,null,null,null,null,{"$f":"SUM(R40:W40)","v":0},"Rating"]
[null,null,"Weighted Score",null,null,null,null,null,null,{"$f":"J$12*J40","v":0},0,0,0,0,0,{"$f":"P$12*P40","v":0},0,{"$f":"R$12*R40","v":0},0,0,0,0,0,0,"Weighted Score"]
[15,{"$f":"SHELL!B39","v":0},"Rating",null,null,null,null,null,null,null,null,null,null,null,null,null,0,null,null,null,null,null,null,0,"Rating"]
[null,null,"Weighted Score",null,null,null,null,null,null,{"$f":"J$12*J42","v":0},0,0,0,0,0,{"$f":"P$12*P42","v":0},0,{"$f":"R$12*R42","v":0},0,0,0,0,0,0,"Weighted Score"]
[16,{"$f":"SHELL!B41","v":0},"Rating",null,null,null,null,null,null,null,null,null,null,null,null,null,0,null,null,null,null,null,null,0,"Rating"]
[null,null,"Weighted Score",null,null,null,null,null,null,{"$f":"J$12*J44","v":0},0,0,0,0,0,{"$f":"P$12*P44","v":0},0,{"$f":"R$12*R44","v":0},0,0,0,0,0,0,"Weighted Score"]
[17,{"$f":"SHELL!B43","v":0},"Rating",null,null,null,null,null,null,null,null,null,null,null,null,null,0,null,null,null,null,null,null,0,"Rating"]
[null,null,"Weighted Score",null,null,null,null,null,null,{"$f":"J$12*J46","v":0},0,0,0,0,0,{"$f":"P$12*P46","v":0},0,{"$f":"R$12*R46","v":0},0,0,0,0,0,0,"Weighted Score"]
[18,{"$f":"SHELL!B45","v":0},"Rating",null,null,null,null,null,null,null,null,null,null,null,null,null,0,null,null,null,null,null,null,0,"Rating"]
[null,null,"Weighted Score",null,null,null,null,null,null,{"$f":"J$12*J48","v":0},0,0,0,0,0,{"$f":"P$12*P48","v":0},0,{"$f":"R$12*R48","v":0},0,0,0,0,0,0,"Weighted Score"]
[19,{"$f":"SHELL!B47","v":0},"Rating",null,null,null,null,null,null,null,null,null,null,null,null,null,0,null,null,null,null,null,null,0,"Rating"]
[null,null,"Weighted Score",null,null,null,null,null,null,{"$f":"J$12*J50","v":0},0,0,0,0,0,{"$f":"P$12*P50","v":0},0,{"$f":"R$12*R50","v":0},0,0,0,0,0,0,"Weighted Score"]
[20,{"$f":"SHELL!B49","v":0},"Rating",null,null,null,null,null,null,null,null,null,null,null,null,null,0,null,null,null,null,null,null,0,"Rating"]
[null,null,"Weighted Score",null,null,null,null,null,null,{"$f":"J$12*J52","v":0},0,0,0,0,0,{"$f":"P$12*P52","v":0},0,{"$f":"R$12*R52","v":0},0,0,0,0,0,0,"Weighted Score"]

{"sheet":" 5","index":9,"n_rows":53,"n_cols":200,"rows_kept":53,"cut":false,"hidden":false,"merged":[[21,1,22,1],[23,0,24,0],[25,0,26,0],[25,1,26,1],[23,1,24,1],[21,0,22,0],[15,0,16,0],[17,0,18,0],[17,1,18,1],[15,1,16,1],[19,0,20,0],[19,1,20,1],[9,17,9,22],[10,0,10,2],[2,17,2,22],[13,0,14,0],[13,1,14,1],[9,3,9,8],[2,9,2,16],[9,9,9,14],[37,0,38,0],[37,1,38,1],[31,1,32,1],[33,1,34,1],[27,0,28,0],[29,0,30,0],[31,0,32,0],[33,0,34,0],[35,0,36,0],[35,1,36,1],[29,1,30,1],[27,1,28,1],[39,0,40,0],[39,1,40,1],[41,0,42,0],[41,1,42,1],[43,0,44,0],[43,1,44,1],[51,0,52,0],[51,1,52,1],[45,0,46,0],[45,1,46,1],[47,0,48,0],[47,1,48,1],[49,0,50,0],[49,1,50,1]]}
[]
[]
["#5"," Budget Enter Name"]
[]
[]
[]
[]
["Scale:  Rate each applicant on a scale from 1 (lowest) to 20 (highest)"]
[]
[null,null,null,"COMPLIANCE",null,null,null,null,null,"INITIAL SCREENING",null,null,null,null,null,null,null,"INTERVIEW AND PRESENTATION"]
[{"$f":"SHELL!B1","v":"Project Name: "},null,null,{"$f":"SHELL!D8","v":"CERTIFICATE BY THE FLA SECRETARY OF STATE"},{"$f":"SHELL!E8","v":"TYPE OF BUSINESS"},{"$f":"SHELL!F8","v":"REQUIRED VALID LICENSE - GC"},{"$f":"SHELL!G8","v":"BONDING CAPACITY"},{"$f":"SHELL!H8","v":"LOCATION/ADDRESS & PHONE# OF FIRM'S                                                                                                 OFFICES"},{"$f":"SHELL!I8","v":"OWNERS/OFFICERS & PRINCIPALS IN CHG."},{"$f":"SHELL!J8","v":"RELATED EXPERIENCE"},{"$f":"SHELL!K8","v":"PROPOSED PROJECT STAFF & FUNCTIONS "},{"$f":"SHELL!L8","v":"WORKLOAD"},{"$f":"SHELL!M8","v":"EQUITABLE DISTRIBUTION"},{"$f":"SHELL!N8","v":"FINANCIAL CAPABILITIES AND COST CONTRAL MEASURES"},{"$f":"SHELL!O8","v":"MWBE, LDB AND VBE BUSINESS HISTORY"},{"$f":"SHELL!P8","v":"LOCAL PREFERENCE POLICY SCORE"},{"$f":"SHELL!Q8","v":"TOTAL"},{"$f":"SHELL!R8","v":"REFERENCES"},{"$f":"SHELL!S8","v":"OVERALL APPROACH AND METHODOLOGY"},{"$f":"SHELL!T8","v":"PROJECT TEAM"},{"$f":"SHELL!U8","v":"COST CONTROL"},{"$f":"SHELL!V8","v":"PROJECT SCHEDULING"},{"$f":"SHELL!W8","v":"MWBE, LDB AND VBE IMPLEMENTATION PLAN"},"TOTAL",null,null,null,null,null,null,null,null,null,null,null,null,null,null,null,null,null,null,null,null,null,null,null,null,null,null,null,null,null,null,null,null,null,null,null,null,null,null,null,null,null,null,null,null,null,null,null,null,null,null,null,null,null,null,null,null,null,null,null,null,null,null,null,null,null,null,null,null,null,null,null,null,null,null,null,null,null,null,null,null,null,null,null,null,null,null,null,null,null,null,null,null,null,null,null,null,null,null,null,null,null,null,null,null,null,null,null,null,null,null,null,null,null,null,null,null,null,null,null,null,null,null,null,null,null,null,null,null,null,null,null,null,null,null,null,null,null,null,null,null,null,null,null,null,null,null,null,null,null,null,null,null,null,null,null,null,null,null,null,null,null,null,null,null,null,null,null,null,null,null,null,null,null,null,null,{"$f":"SUM(J14+K14+L14+N14+O14)","v":0}]
["ITEM","APPLICANTS","Assigned Weight",null,null,null,null,null,null,0.35,0.2,0.05,0.05,0.15,0.1,0.1,1,0.1,0.3,0.1,0.2,0.2,0.1,1]
[]
[1,{"$f":"SHELL!B11","v":0},"Rating",null,null,null,null,null,null,null,null,null,null,null,null,null,{"$f":"SUM(J14:O14)","v":0},null,null,null,null,null,null,{"$f":"SUM(R14:W14)","v":0},"Rating"]
[null,null,"Weighted Score",null,null,null,null,null,null,{"$f":"J$12*J14","v":0},0,0,0,0,0,{"$f":"P$12*P14","v":0},{"$f":"SUM(J15:O15)","v":0},{"$f":"R$12*R14","v":0},0,0,0,0,0,{"$f":"SUM(R15:W15)","v":0},"Weighted Score"]
[2,{"$f":"SHELL!B13","v":0},"Rating",null,null,null,null,null,null,null,null,null,null,null,null,null,0,null,null,null,null,null,null,0,"Rating"]
[null,null,"Weighted Score",null,null,null,null,null,null,{"$f":"J$12*J16","v":0},0,0,0,0,0,{"$f":"P$12*P16","v":0},0,{"$f":"R$12*R16","v":0},0,0,0,0,0,0,"Weighted Score"]
[3,{"$f":"SHELL!B15","v":0},"Rating",null,null,null,null,null,null,null,null,null,null,null,null,null,0,null,null,null,null,null,null,0,"Rating"]
[null,null,"Weighted Score",null,null,null,null,null,null,{"$f":"J$12*J18","v":0},0,0,0,0,0,{"$f":"P$12*P18","v":0},0,{"$f":"R$12*R18","v":0},0,0,0,0,0,0,"Weighted Score"]
[4,{"$f":"SHELL!B17","v":0},"Rating",null,null,null,null,null,null,null,null,null,null,null,null,null,0,null,null,null,null,null,null,0,"Rating"]
[null,null,"Weighted Score",null,null,null,null,null,null,{"$f":"J$12*J20","v":0},0,0,0,0,0,{"$f":"P$12*P20","v":0},0,{"$f":"R$12*R20","v":0},0,0,0,0,0,0,"Weighted Score"]
[5,{"$f":"SHELL!B19","v":0},"Rating",null,null,null,null,null,null,null,null,null,null,null,null,null,0,null,null,null,null,null,null,0,"Rating"]
[null,null,"Weighted Score",null,null,null,null,null,null,{"$f":"J$12*J22","v":0},0,0,0,0,0,{"$f":"P$12*P22","v":0},0,{"$f":"R$12*R22","v":0},0,0,0,0,0,0,"Weighted Score"]
[6,{"$f":"SHELL!B21","v":0},"Rating",null,null,null,null,null,null,null,null,null,null,null,null,null,0,null,null,null,null,null,null,0,"Rating"]
[null,null,"Weighted Score",null,null,null,null,null,null,{"$f":"J$12*J24","v":0},0,0,0,0,0,{"$f":"P$12*P24","v":0},0,{"$f":"R$12*R24","v":0},0,0,0,0,0,0,"Weighted Score"]
[7,{"$f":"SHELL!B23","v":0},"Rating",null,null,null,null,null,null,null,null,null,null,null,null,null,0,null,null,null,null,null,null,0,"Rating"]
[null,null,"Weighted Score",null,null,null,null,null,null,{"$f":"J$12*J26","v":0},0,0,0,0,0,{"$f":"P$12*P26","v":0},0,{"$f":"R$12*R26","v":0},0,0,0,0,0,0,"Weighted Score"]
[8,{"$f":"SHELL!B25","v":0},"Rating",null,null,null,null,null,null,null,null,null,null,null,null,null,0,null,null,null,null,null,null,0,"Rating"]
[null,null,"Weighted Score",null,null,null,null,null,null,{"$f":"J$12*J28","v":0},0,0,0,0,0,{"$f":"P$12*P28","v":0},0,{"$f":"R$12*R28","v":0},0,0,0,0,0,0,"Weighted Score"]
[9,{"$f":"SHELL!B27","v":0},"Rating",null,null,null,null,null,null,null,null,null,null,null,null,null,0,null,null,null,null,null,null,0,"Rating"]
[null,null,"Weighted Score",null,null,null,null,null,null,{"$f":"J$12*J30","v":0},0,0,0,0,0,{"$f":"P$12*P30","v":0},0,{"$f":"R$12*R30","v":0},0,0,0,0,0,0,"Weighted Score"]
[10,{"$f":"SHELL!B29","v":0},"Rating",null,null,null,null,null,null,null,null,null,null,null,null,null,0,null,null,null,null,null,null,0,"Rating"]
[null,null,"Weighted Score",null,null,null,null,null,null,{"$f":"J$12*J32","v":0},0,0,0,0,0,{"$f":"P$12*P32","v":0},0,{"$f":"R$12*R32","v":0},0,0,0,0,0,0,"Weighted Score"]
[11,{"$f":"SHELL!B31","v":0},"Rating",null,null,null,null,null,null,null,null,null,null,null,null,null,0,null,null,null,null,null,null,0,"Rating"]
[null,null,"Weighted Score",null,null,null,null,null,null,{"$f":"J$12*J34","v":0},0,0,0,0,0,{"$f":"P$12*P34","v":0},0,{"$f":"R$12*R34","v":0},0,0,0,0,0,0,"Weighted Score"]
[12,{"$f":"SHELL!B33","v":0},"Rating",null,null,null,null,null,null,null,null,null,null,null,null,null,0,null,null,null,null,null,null,0,"Rating"]
[null,null,"Weighted Score",null,null,null,null,null,null,{"$f":"J$12*J36","v":0},0,0,0,0,0,{"$f":"P$12*P36","v":0},0,{"$f":"R$12*R36","v":0},0,0,0,0,0,0,"Weighted Score"]
[13,{"$f":"SHELL!B35","v":0},"Rating",null,null,null,null,null,null,null,null,null,null,null,null,null,0,null,null,null,null,null,null,0,"Rating"]
[null,null,"Weighted Score",null,null,null,null,null,null,{"$f":"J$12*J38","v":0},0,0,0,0,0,{"$f":"P$12*P38","v":0},0,0,0,0,0,0,0,0,"Weighted Score"]
[14,{"$f":"SHELL!B37","v":0},"Rating",null,null,null,null,null,null,null,null,null,null,null,null,null,0,null,null,null,null,null,null,{"$f":"SUM(R40:W40)","v":0},"Rating"]
[null,null,"Weighted Score",null,null,null,null,null,null,{"$f":"J$12*J40","v":0},0,0,0,0,0,{"$f":"P$12*P40","v":0},0,{"$f":"R$12*R40","v":0},0,0,0,0,0,0,"Weighted Score"]
[15,{"$f":"SHELL!B39","v":0},"Rating",null,null,null,null,null,null,null,null,null,null,null,null,null,0,null,null,null,null,null,null,0,"Rating"]
[null,null,"Weighted Score",null,null,null,null,null,null,{"$f":"J$12*J42","v":0},0,0,0,0,0,{"$f":"P$12*P42","v":0},0,{"$f":"R$12*R42","v":0},0,0,0,0,0,0,"Weighted Score"]
[16,{"$f":"SHELL!B41","v":0},"Rating",null,null,null,null,null,null,null,null,null,null,null,null,null,0,null,null,null,null,null,null,0,"Rating"]
[null,null,"Weighted Score",null,null,null,null,null,null,{"$f":"J$12*J44","v":0},0,0,0,0,0,{"$f":"P$12*P44","v":0},0,{"$f":"R$12*R44","v":0},0,0,0,0,0,0,"Weighted Score"]
[17,{"$f":"SHELL!B43","v":0},"Rating",null,null,null,null,null,null,null,null,null,null,null,null,null,0,null,null,null,null,null,null,0,"Rating"]
[null,null,"Weighted Score",null,null,null,null,null,null,{"$f":"J$12*J46","v":0},0,0,0,0,0,{"$f":"P$12*P46","v":0},0,{"$f":"R$12*R46","v":0},0,0,0,0,0,0,"Weighted Score"]
[18,{"$f":"SHELL!B45","v":0},"Rating",null,null,null,null,null,null,null,null,null,null,null,null,null,0,null,null,null,null,null,null,0,"Rating"]
[null,null,"Weighted Score",null,null,null,null,null,null,{"$f":"J$12*J48","v":0},0,0,0,0,0,{"$f":"P$12*P48","v":0},0,{"$f":"R$12*R48","v":0},0,0,0,0,0,0,"Weighted Score"]
[19,{"$f":"SHELL!B47","v":0},"Rating",null,null,null,null,null,null,null,null,null,null,null,null,null,0,null,null,null,null,null,null,0,"Rating"]
[null,null,"Weighted Score",null,null,null,null,null,null,{"$f":"J$12*J50","v":0},0,0,0,0,0,{"$f":"P$12*P50","v":0},0,{"$f":"R$12*R50","v":0},0,0,0,0,0,0,"Weighted Score"]
[20,{"$f":"SHELL!B49","v":0},"Rating",null,null,null,null,null,null,null,null,null,null,null,null,null,0,null,null,null,null,null,null,0,"Rating"]
[null,null,"Weighted Score",null,null,null,null,null,null,{"$f":"J$12*J52","v":0},0,0,0,0,0,{"$f":"P$12*P52","v":0},0,{"$f":"R$12*R52","v":0},0,0,0,0,0,0,"Weighted Score"]

{"sheet":" 6","index":10,"n_rows":53,"n_cols":25,"rows_kept":53,"cut":false,"hidden":false,"merged":[[15,0,16,0],[25,0,26,0],[25,1,26,1],[19,0,20,0],[21,1,22,1],[23,0,24,0],[19,1,20,1],[15,1,16,1],[17,0,18,0],[23,1,24,1],[21,0,22,0],[17,1,18,1],[2,17,2,22],[13,0,14,0],[13,1,14,1],[9,3,9,8],[2,9,2,16],[10,0,10,2],[9,17,9,23],[37,0,38,0],[37,1,38,1],[31,1,32,1],[33,1,34,1],[27,0,28,0],[35,0,36,0],[29,0,30,0],[27,1,28,1],[29,1,30,1],[35,1,36,1],[33,0,34,0],[31,0,32,0],[39,0,40,0],[39,1,40,1],[41,0,42,0],[41,1,42,1],[43,0,44,0],[43,1,44,1],[51,0,52,0],[51,1,52,1],[45,0,46,0],[45,1,46,1],[47,0,48,0],[47,1,48,1],[49,0,50,0],[49,1,50,1]]}
[]
[]
["#6","OBO - Enter Name\n"]
[]
[]
[]
[]
["Scale:  Rate each applicant on a scale from 1 (lowest) to 20 (highest)"]
[]
[null,null,null,"COMPLIANCE",null,null,null,null,null,null,"INITIAL SCREENING",null,null,null,null,null,null,"INTERVIEW AND PRESENTATION"]
[{"$f":"SHELL!B1","v":"Project Name: "},null,null,{"$f":"SHELL!D8","v":"CERTIFICATE BY THE FLA SECRETARY OF STATE"},{"$f":"SHELL!E8","v":"TYPE OF BUSINESS"},{"$f":"SHELL!F8","v":"REQUIRED VALID LICENSE - GC"},{"$f":"SHELL!G8","v":"BONDING CAPACITY"},{"$f":"SHELL!H8","v":"LOCATION/ADDRESS & PHONE# OF FIRM'S                                                                                                 OFFICES"},{"$f":"SHELL!I8","v":"OWNERS/OFFICERS & PRINCIPALS IN CHG."},{"$f":"SHELL!J8","v":"RELATED EXPERIENCE"},{"$f":"SHELL!K8","v":"PROPOSED PROJECT STAFF & FUNCTIONS "},{"$f":"SHELL!L8","v":"WORKLOAD"},{"$f":"SHELL!M8","v":"EQUITABLE DISTRIBUTION"},{"$f":"SHELL!N8","v":"FINANCIAL CAPABILITIES AND COST CONTRAL MEASURES"},{"$f":"SHELL!O8","v":"MWBE, LDB AND VBE BUSINESS HISTORY"},{"$f":"SHELL!P8","v":"LOCAL PREFERENCE POLICY SCORE"},{"$f":"SHELL!Q8","v":"TOTAL"},{"$f":"SHELL!R8","v":"REFERENCES"},{"$f":"SHELL!S8","v":"OVERALL APPROACH AND METHODOLOGY"},{"$f":"SHELL!T8","v":"PROJECT TEAM"},{"$f":"SHELL!U8","v":"COST CONTROL"},{"$f":"SHELL!V8","v":"PROJECT SCHEDULING"},{"$f":"SHELL!W8","v":"MWBE, LDB AND VBE IMPLEMENTATION PLAN"},"TOTAL"]
["ITEM","APPLICANTS","Assigned Weight",null,null,null,null,null,null,0.35,0.2,0.05,0.05,0.15,0.1,0.1,1,0.1,0.3,0.1,0.2,0.2,0.1,1]
[]
[1,{"$f":"SHELL!B11","v":0},"Rating",null,null,null,null,null,null,null,null,null,null,null,null,null,{"$f":"SUM(J14:P14)","v":0},null,null,null,null,null,null,{"$f":"SUM(R14:W14)","v":0},"Rating"]
[null,null,"Weighted Score",null,null,null,null,null,null,{"$f":"J$12*J14","v":0},0,0,0,0,0,{"$f":"P$12*P14","v":0},{"$f":"SUM(J15:P15)","v":0},{"$f":"R$12*R14","v":0},0,0,0,0,0,{"$f":"SUM(R15:W15)","v":0},"Weighted Score"]
[2,{"$f":"SHELL!B13","v":0},"Rating",null,null,null,null,null,null,null,null,null,null,null,null,null,0,null,null,null,null,null,null,0,"Rating"]
[null,null,"Weighted Score",null,null,null,null,null,null,{"$f":"J$12*J16","v":0},0,0,0,0,0,{"$f":"P$12*P16","v":0},0,{"$f":"R$12*R16","v":0},0,0,0,0,0,0,"Weighted Score"]
[3,{"$f":"SHELL!B15","v":0},"Rating",null,null,null,null,null,null,null,null,null,null,null,null,null,0,null,null,null,null,null,null,0,"Rating"]
[null,null,"Weighted Score",null,null,null,null,null,null,{"$f":"J$12*J18","v":0},0,0,0,0,0,{"$f":"P$12*P18","v":0},0,{"$f":"R$12*R18","v":0},0,0,0,0,0,0,"Weighted Score"]
[4,{"$f":"SHELL!B17","v":0},"Rating",null,null,null,null,null,null,null,null,null,null,null,null,null,0,null,null,null,null,null,null,0,"Rating"]
[null,null,"Weighted Score",null,null,null,null,null,null,{"$f":"J$12*J20","v":0},0,0,0,0,0,{"$f":"P$12*P20","v":0},0,{"$f":"R$12*R20","v":0},0,0,0,0,0,0,"Weighted Score"]
[5,{"$f":"SHELL!B19","v":0},"Rating",null,null,null,null,null,null,null,null,null,null,null,null,null,0,null,null,null,null,null,null,0,"Rating"]
[null,null,"Weighted Score",null,null,null,null,null,null,{"$f":"J$12*J22","v":0},0,0,0,0,0,{"$f":"P$12*P22","v":0},0,{"$f":"R$12*R22","v":0},0,0,0,0,0,0,"Weighted Score"]
[6,{"$f":"SHELL!B21","v":0},"Rating",null,null,null,null,null,null,null,null,null,null,null,null,null,0,null,null,null,null,null,null,0,"Rating"]
[null,null,"Weighted Score",null,null,null,null,null,null,{"$f":"J$12*J24","v":0},0,0,0,0,0,{"$f":"P$12*P24","v":0},0,{"$f":"R$12*R24","v":0},0,0,0,0,0,0,"Weighted Score"]
[7,{"$f":"SHELL!B23","v":0},"Rating",null,null,null,null,null,null,null,null,null,null,null,null,null,0,null,null,null,null,null,null,0,"Rating"]
[null,null,"Weighted Score",null,null,null,null,null,null,{"$f":"J$12*J26","v":0},0,0,0,0,0,{"$f":"P$12*P26","v":0},0,{"$f":"R$12*R26","v":0},0,0,0,0,0,0,"Weighted Score"]
[8,{"$f":"SHELL!B25","v":0},"Rating",null,null,null,null,null,null,null,null,null,null,null,null,null,0,null,null,null,null,null,null,0,"Rating"]
[null,null,"Weighted Score",null,null,null,null,null,null,{"$f":"J$12*J28","v":0},0,0,0,0,0,{"$f":"P$12*P28","v":0},0,{"$f":"R$12*R28","v":0},0,0,0,0,0,0,"Weighted Score"]
[9,{"$f":"SHELL!B27","v":0},"Rating",null,null,null,null,null,null,null,null,null,null,null,null,null,0,null,null,null,null,null,null,0,"Rating"]
[null,null,"Weighted Score",null,null,null,null,null,null,{"$f":"J$12*J30","v":0},0,0,0,0,0,{"$f":"P$12*P30","v":0},0,{"$f":"R$12*R30","v":0},0,0,0,0,0,0,"Weighted Score"]
[10,{"$f":"SHELL!B29","v":0},"Rating",null,null,null,null,null,null,null,null,null,null,null,null,null,0,null,null,null,null,null,null,0,"Rating"]
[null,null,"Weighted Score",null,null,null,null,null,null,{"$f":"J$12*J32","v":0},0,0,0,0,0,{"$f":"P$12*P32","v":0},0,{"$f":"R$12*R32","v":0},0,0,0,0,0,0,"Weighted Score"]
[11,{"$f":"SHELL!B31","v":0},"Rating",null,null,null,null,null,null,null,null,null,null,null,null,null,0,null,null,null,null,null,null,0,"Rating"]
[null,null,"Weighted Score",null,null,null,null,null,null,{"$f":"J$12*J34","v":0},0,0,0,0,0,{"$f":"P$12*P34","v":0},0,{"$f":"R$12*R34","v":0},0,0,0,0,0,0,"Weighted Score"]
[12,{"$f":"SHELL!B33","v":0},"Rating",null,null,null,null,null,null,null,null,null,null,null,null,null,0,null,null,null,null,null,null,0,"Rating"]
[null,null,"Weighted Score",null,null,null,null,null,null,{"$f":"J$12*J36","v":0},0,0,0,0,0,{"$f":"P$12*P36","v":0},0,{"$f":"R$12*R36","v":0},0,0,0,0,0,0,"Weighted Score"]
[13,{"$f":"SHELL!B35","v":0},"Rating",null,null,null,null,null,null,null,null,null,null,null,null,null,0,null,null,null,null,null,null,0,"Rating"]
[null,null,"Weighted Score",null,null,null,null,null,null,{"$f":"J$12*J38","v":0},0,0,0,0,0,{"$f":"P$12*P38","v":0},0,0,0,0,0,0,0,0,"Weighted Score"]
[14,{"$f":"SHELL!B37","v":0},"Rating",null,null,null,null,null,null,null,null,null,null,null,null,null,0,null,null,null,null,null,null,{"$f":"SUM(R40:W40)","v":0},"Rating"]
[null,null,"Weighted Score",null,null,null,null,null,null,{"$f":"J$12*J40","v":0},0,0,0,0,0,{"$f":"P$12*P40","v":0},0,{"$f":"R$12*R40","v":0},0,0,0,0,0,0,"Weighted Score"]
[15,{"$f":"SHELL!B39","v":0},"Rating",null,null,null,null,null,null,null,null,null,null,null,null,null,0,null,null,null,null,null,null,0,"Rating"]
[null,null,"Weighted Score",null,null,null,null,null,null,{"$f":"J$12*J42","v":0},0,0,0,0,0,{"$f":"P$12*P42","v":0},0,{"$f":"R$12*R42","v":0},0,0,0,0,0,0,"Weighted Score"]
[16,{"$f":"SHELL!B41","v":0},"Rating",null,null,null,null,null,null,null,null,null,null,null,null,null,0,null,null,null,null,null,null,0,"Rating"]
[null,null,"Weighted Score",null,null,null,null,null,null,{"$f":"J$12*J44","v":0},0,0,0,0,0,{"$f":"P$12*P44","v":0},0,{"$f":"R$12*R44","v":0},0,0,0,0,0,0,"Weighted Score"]
[17,{"$f":"SHELL!B43","v":0},"Rating",null,null,null,null,null,null,null,null,null,null,null,null,null,0,null,null,null,null,null,null,0,"Rating"]
[null,null,"Weighted Score",null,null,null,null,null,null,{"$f":"J$12*J46","v":0},0,0,0,0,0,{"$f":"P$12*P46","v":0},0,{"$f":"R$12*R46","v":0},0,0,0,0,0,0,"Weighted Score"]
[18,{"$f":"SHELL!B45","v":0},"Rating",null,null,null,null,null,null,null,null,null,null,null,null,null,0,null,null,null,null,null,null,0,"Rating"]
[null,null,"Weighted Score",null,null,null,null,null,null,{"$f":"J$12*J48","v":0},0,0,0,0,0,{"$f":"P$12*P48","v":0},0,{"$f":"R$12*R48","v":0},0,0,0,0,0,0,"Weighted Score"]
[19,{"$f":"SHELL!B47","v":0},"Rating",null,null,null,null,null,null,null,null,null,null,null,null,null,0,null,null,null,null,null,null,0,"Rating"]
[null,null,"Weighted Score",null,null,null,null,null,null,{"$f":"J$12*J50","v":0},0,0,0,0,0,{"$f":"P$12*P50","v":0},0,{"$f":"R$12*R50","v":0},0,0,0,0,0,0,"Weighted Score"]
[20,{"$f":"SHELL!B49","v":0},"Rating",null,null,null,null,null,null,null,null,null,null,null,null,null,0,null,null,null,null,null,null,0,"Rating"]
[null,null,"Weighted Score",null,null,null,null,null,null,{"$f":"J$12*J52","v":0},0,0,0,0,0,{"$f":"P$12*P52","v":0},0,{"$f":"R$12*R52","v":0},0,0,0,0,0,0,"Weighted Score"]

{"sheet":"COMMENTS","index":11,"n_rows":49,"n_cols":3,"rows_kept":49,"cut":false,"hidden":false,"merged":[[0,0,0,1]]}
[{"$f":"SHELL!B1","v":"Project Name: "}]
[null,null,"FIRM:________________________________"]
[]
["ITEM","DESCRIPTION","COMMENTS"]
[1,"RELATED PAST EXPERIENCE"]
[null," -Construction projects: over 5 million","list:"]
[]
[]
[null," -Direct CM experience for ed. Facility?","list:"]
[]
[]
[null," -Were they the Prime, JV, or sub?"]
[null," -Was the experience educational related?","yes        no"]
[null," -Was experience within the last 5 years?","yes        no"]
[null," -Was experience in Florida?","yes        no"]
[2,"SCHEDULING & COST CONTROL"]
[null," -Type of scheduling software"]
[null," -Methods of cost control"]
[null," -V/E analysis"]
[]
[3,"OFFICE STAFF"]
[null,"Preconstruction:  Name:","yrs w/ CM:"]
[null,"  CM experience:  yes  no"]
[null,"Estimating Staff: in house or sub?"]
[null,"Other:"]
[]
[4,"ON SITE STAFF","COMMENTS"]
[null,"Project Manager:  Name:","yrs w/ CM:"]
[null,"  CM experience:  yes  no","list:"]
[null,"  School construction exp:  yes   no","list:"]
[null,"Superintendent:  Name:","yrs w/ CM:"]
[null,"  CM experience:  yes  no","list:"]
[null,"  School construction exp:  yes   no","list:"]
[]
[5,"INFORMATION SYSTEMS","COMMENTS"]
[null,"Type of communications proposed:","list:"]
[]
[null,"Web site communications"]
[null,null,"list:"]
[6,"M/WBE PLAN","COMMENTS"]
[null,"Is CM an MWBE?","yes        no"]
[null,"Is it a JV with an MWBE?","yes        no"]
[null,"Did proposal include MWBE Team members","yes        no"]
[null,"other"]
[]
[]
[]
["OTHER COMMENTS:______________________________________________________"]
["________________________________________________________________________"]

{"sheet":"ANALYSIS","index":12,"n_rows":33,"n_cols":55,"rows_kept":33,"cut":false,"hidden":false,"merged":[[25,0,26,0],[25,1,26,1],[11,0,12,0],[11,1,12,1],[13,0,14,0],[13,1,14,1],[15,0,16,0],[15,1,16,1],[17,0,18,0],[17,1,18,1],[19,0,20,0],[19,1,20,1],[21,0,22,0],[21,1,22,1],[23,0,24,0],[23,1,24,1],[31,0,32,0],[31,1,32,1],[27,0,28,0],[27,1,28,1],[29,0,30,0],[29,1,30,1]]}
[]
[]
[null,"ANALYSIS BY CRITERIA"]
[]
[]
[]
[]
[null,null,null,null,null,null,null,null,null,null,"SYED",null,"TOTAL",null,null,null,null,null,"SYED",null,"TOTAL",null,null,null,null,null,"SYED",null,"TOTAL ",null,null,null,null,null,"SYED",null,"TOTAL ",null,null,null,null,null,"SYED",null,"TOTAL",null,null,null,null,null,"SYED",null,"TOTAL"]
[null,null,null,null,null,"REFERENCES","REFERENCES","REFERENCES","REFERENCES","REFERENCES","REFERENCES","REFERENCES","TOTAL REFERENCES","OVERALL APPROACH/METHOD.","OVERALL APPROACH/METHOD.","OVERALL APPROACH/METHOD.","OVERALL APPROACH/METHOD.","OVERALL APPROACH/METHOD.","OVERALL APPROACH/METHOD.","OVERALL APPROACH/METHOD.","TOTAL OVERALL APPROACH","EXPERIENCE OF PROF. PERSONNEL","EXPERIENCE OF PROF. PERSONNEL","EXPERIENCE OF PROF. PERSONNEL","EXPERIENCE OF PROF. PERSONNEL","EXPERIENCE OF PROF. PERSONNEL","EXPERIENCE OF PROF. PERSONNEL","EXPERIENCE OF PROF. PERSONNEL","TOTAL EXP OF PROF PERSON.","WORKLOAD","WORKLOAD","WORKLOAD","WORKLOAD","WORKLOAD","WORKLOAD","WORKLOAD","TOTAL WORKLOAD","KNOWLEDGE EDUCATIONAL FAC.","KNOWLEDGE EDUCATIONAL FAC.","KNOWLEDGE EDUCATIONAL FAC.","KNOWLEDGE EDUCATIONAL FAC.","KNOWLEDGE EDUCATIONAL FAC.","KNOWLEDGE EDUCATIONAL FAC.","KNOWLEDGE EDUCATIONAL FAC.","TOTAL KNOW. ED FAC","MWBE IMPLEMENTATION PLAN","MWBE IMPLEMENTATION PLAN","MWBE IMPLEMENTATION PLAN","MWBE IMPLEMENTATION PLAN","MWBE IMPLEMENTATION PLAN","MWBE IMPLEMENTATION PLAN","MWBE IMPLEMENTATION PLAN","TOTALM WBE IMPLEM. PLAN"]
[null,"APPLICANTS"]
[]
[1,{"$f":"SHELL!B11","v":0},"Rating",null,null,null,null,null,null,null,null,null,{"$f":"SUM(F12:L12)","v":0},null,null,null,null,null,null,null,{"$f":"SUM(N12:T12)","v":0},null,null,null,null,null,null,null,{"$f":"SUM(V12:AB12)","v":0},null,null,null,null,null,null,null,{"$f":"SUM(AD12:AJ12)","v":0},null,null,null,null,null,null,null,{"$f":"SUM(AL12:AR12)","v":0},null,null,null,null,null,null,null,{"$f":"SUM(AT12:AZ12)","v":0},null,"Rating"]
[null,null,"Weighted Score",null,null,null,null,null,null,null,null,null,0,null,null,null,null,null,null,null,0,null,null,null,null,null,null,null,0,null,null,null,null,null,null,null,0,null,null,null,null,null,null,null,0,null,null,null,null,null,null,null,0,null,"Weighted Score"]
[2,{"$f":"SHELL!B13","v":0},"Rating",null,null,null,null,null,null,null,null,null,0,null,null,null,null,null,null,null,0,null,null,null,null,null,null,null,0,null,null,null,null,null,null,null,0,null,null,null,null,null,null,null,0,null,null,null,null,null,null,null,0,null,"Rating"]
[null,null,"Weighted Score",null,null,null,null,null,null,null,null,null,0,null,null,null,null,null,null,null,0,null,null,null,null,null,null,null,0,null,null,null,null,null,null,null,0,null,null,null,null,null,null,null,0,null,null,null,null,null,null,null,0,null,"Weighted Score"]
[3,{"$f":"SHELL!B15","v":0},"Rating",null,null,null,null,null,null,null,null,null,0,null,null,null,null,null,null,null,0,null,null,null,null,null,null,null,0,null,null,null,null,null,null,null,0,null,null,null,null,null,null,null,0,null,null,null,null,null,null,null,0,null,"Rating"]
[null,null,"Weighted Score",null,null,null,null,null,null,null,null,null,0,null,null,null,null,null,null,null,0,null,null,null,null,null,null,null,0,null,null,null,null,null,null,null,0,null,null,null,null,null,null,null,0,null,null,null,null,null,null,null,0,null,"Weighted Score"]
[4,{"$f":"SHELL!B17","v":0},"Rating",null,null,null,null,null,null,null,null,null,0,null,null,null,null,null,null,null,0,null,null,null,null,null,null,null,0,null,null,null,null,null,null,null,0,null,null,null,null,null,null,null,0,null,null,null,null,null,null,null,0,null,"Rating"]
[null,null,"Weighted Score",null,null,null,null,null,null,null,null,null,0,null,null,null,null,null,null,null,0,null,null,null,null,null,null,null,0,null,null,null,null,null,null,null,0,null,null,null,null,null,null,null,0,null,null,null,null,null,null,null,0,null,"Weighted Score"]
[5,{"$f":"SHELL!B19","v":0},"Rating",null,null,null,null,null,null,null,null,null,0,null,null,null,null,null,null,null,0,null,null,null,null,null,null,null,0,null,null,null,null,null,null,null,0,null,null,null,null,null,null,null,0,null,null,null,null,null,null,null,0,null,"Rating"]
[null,null,"Weighted Score",null,null,null,null,null,null,null,null,null,0,null,null,null,null,null,null,null,0,null,null,null,null,null,null,null,0,null,null,null,null,null,null,null,0,null,null,null,null,null,null,null,0,null,null,null,null,null,null,null,0,null,"Weighted Score"]
[6,{"$f":"SHELL!B21","v":0},"Rating",null,null,null,null,null,null,null,null,null,0,null,null,null,null,null,null,null,0,null,null,null,null,null,null,null,0,null,null,null,null,null,null,null,0,null,null,null,null,null,null,null,0,null,null,null,null,null,null,null,0,null,"Rating"]
[null,null,"Weighted Score",null,null,null,null,null,null,null,null,null,0,null,null,null,null,null,null,null,0,null,null,null,null,null,null,null,0,null,null,null,null,null,null,null,0,null,null,null,null,null,null,null,0,null,null,null,null,null,null,null,0,null,"Weighted Score"]
[7,{"$f":"SHELL!B25","v":0},"Rating",null,null,null,null,null,null,null,null,null,0,null,null,null,null,null,null,null,0,null,null,null,null,null,null,null,0,null,null,null,null,null,null,null,0,null,null,null,null,null,null,null,0,null,null,null,null,null,null,null,0,null,"Rating"]
[null,null,"Weighted Score",null,null,null,null,null,null,null,null,null,0,null,null,null,null,null,null,null,0,null,null,null,null,null,null,null,0,null,null,null,null,null,null,null,0,null,null,null,null,null,null,null,0,null,null,null,null,null,null,null,0,null,"Weighted Score"]
[8,{"$f":"SHELL!B27","v":0},"Rating",null,null,null,null,null,null,null,null,null,0,null,null,null,null,null,null,null,0,null,null,null,null,null,null,null,0,null,null,null,null,null,null,null,0,null,null,null,null,null,null,null,0,null,null,null,null,null,null,null,0,null,"Rating"]
[null,null,"Weighted Score",null,null,null,null,null,null,null,null,null,0,null,null,null,null,null,null,null,0,null,null,null,null,null,null,null,0,null,null,null,null,null,null,null,0,null,null,null,null,null,null,null,0,null,null,null,null,null,null,null,0,null,"Weighted Score"]
[9,{"$f":"SHELL!#REF!","v":{"$error":"#REF!"}},"Rating",null,null,null,null,null,null,null,null,null,0,null,null,null,null,null,null,null,0,null,null,null,null,null,null,null,0,null,null,null,null,null,null,null,0,null,null,null,null,null,null,null,0,null,null,null,null,null,null,null,0,null,"Rating"]
[null,null,"Weighted Score",null,null,null,null,null,null,null,null,null,0,null,null,null,null,null,null,null,0,null,null,null,null,null,null,null,0,null,null,null,null,null,null,null,0,null,null,null,null,null,null,null,0,null,null,null,null,null,null,null,0,null,"Weighted Score"]
[10,{"$f":"SHELL!#REF!","v":{"$error":"#REF!"}},"Rating",null,null,null,null,null,null,null,null,null,0,null,null,null,null,null,null,null,0,null,null,null,null,null,null,null,0,null,null,null,null,null,null,null,0,null,null,null,null,null,null,null,0,null,null,null,null,null,null,null,0,null,"Rating"]
[null,null,"Weighted Score",null,null,null,null,null,null,null,null,null,0,null,null,null,null,null,null,null,0,null,null,null,null,null,null,null,0,null,null,null,null,null,null,null,0,null,null,null,null,null,null,null,0,null,null,null,null,null,null,0,0,null,"Weighted Score"]
[11,{"$f":"SHELL!#REF!","v":{"$error":"#REF!"}},"Rating",null,null,null,null,null,null,null,null,null,{"$f":"SUM(F32:L32)","v":0},null,null,null,null,null,null,null,{"$f":"SUM(N32:T32)","v":0},null,null,null,null,null,null,null,{"$f":"SUM(V32:AB32)","v":0},null,null,null,null,null,null,null,{"$f":"SUM(AD32:AJ32)","v":0},null,null,null,null,null,null,null,{"$f":"SUM(AL32:AR32)","v":0},null,null,null,null,null,null,null,{"$f":"SUM(AT32:AZ32)","v":0},null,"Rating"]
[null,null,"Weighted Score",null,null,null,null,null,null,null,null,null,{"$f":"SUM(F33:L33)","v":0},null,null,null,null,null,null,null,{"$f":"SUM(N33:T33)","v":0},null,null,null,null,null,null,null,{"$f":"SUM(V33:AB33)","v":0},null,null,null,null,null,null,null,{"$f":"SUM(AD33:AJ33)","v":0},null,null,null,null,null,null,null,{"$f":"SUM(AL33:AR33)","v":0},null,null,null,null,null,null,0,{"$f":"SUM(AT33:AZ33)","v":0},null,"Weighted Score"]

{"sheet":"ANALYSIS TOTAL (2)","index":13,"n_rows":21,"n_cols":13,"rows_kept":21,"cut":false,"hidden":false,"merged":[[2,1,2,2],[4,1,4,2],[8,0,8,2]]}
[]
[]
[null,"ANALYSIS BY CRITERIA"]
[]
[null,"INTERVIEW STAGE"]
[]
[]
[null,null,null,null,null,"TOTAL","TOTAL","TOTAL ","TOTAL","TOTAL ","TOTAL"]
[{"$f":"SHELL!#REF!","v":{"$error":"#REF!"}},null,null,null,null,"TOTAL REFERENCES","TOTAL OVERALL APPROACH","TOTAL EXP OF PROF PERSON.","TOTAL WORKLOAD","TOTAL KNOW. ED FAC","TOTAL MWBE IMPLEM. PLAN"]
[null,"APPLICANTS"]
[]
[1,null,"Rating",null,null,null,null,null,null,null,null,null,"Rating"]
[null,null,"Weighted Score",null,null,null,null,null,null,null,null,null,"Weighted Score"]
[2,null,"Rating",null,null,null,null,null,null,null,null,null,"Rating"]
[null,null,"Weighted Score",null,null,null,null,null,null,null,null,null,"Weighted Score"]
[3,null,"Rating",null,null,null,null,null,null,null,null,null,"Rating"]
[null,null,"Weighted Score",null,null,null,null,null,null,null,null,null,"Weighted Score"]
[4,null,"Rating",null,null,null,null,null,null,null,null,null,"Rating"]
[null,null,"Weighted Score",null,null,null,null,null,null,null,null,null,"Weighted Score"]
[5,null,"Rating",null,null,null,null,null,null,null,null,null,"Rating"]
[null,null,"Weighted Score",null,null,null,null,null,null,null,null,null,"Weighted Score"]

{"sheet":"NOTES","index":14,"n_rows":0,"n_cols":0,"rows_kept":0,"cut":false,"hidden":false,"merged":[]}

{"sheet":"CHECKLIST","index":15,"n_rows":32,"n_cols":6,"rows_kept":32,"cut":false,"hidden":false,"merged":[[1,0,1,5]]}
[]
["CHECKLIST FOR COMPLETION OF SUBMITTALS"]
[]
["RFQ NAME:",null,null,"FIRM NAME:"]
["RFQ NO.:",null,null,"DATE:"]
[]
["ITEM","DESCRIPTION OF REQUIREMENT","YES","NO","MARGINAL","COMMENTS"]
[]
[1,"8 SETS"]
[2,"MARKED ONE ORIGINAL"]
[3,"LETTER OF INTEREST"]
[4,"CORP OR JOINT VENTURE"]
[5,"YEARS IN BUSINESS"]
[6,"LOCATED IN SPECIFIED COUNTIES"]
[7,"TOTAL TECH STAFF"]
[8,"LICENSES"]
[9,"CERTIFIED MBE"]
[10,"INSURANCE/BONDING"]
[11,"RELATED BUILDING EXPERIENCE"]
[12,"FINANCIAL CAPABILITY"]
[13,"SCHEDULING AND COST CONTROL"]
[14,"OFFICE STAFF"]
[15,"ON-SITE STATFF"]
[16,"INFORAMTION SYSTEM"]
[17,"DISTANCE TO SITE"]
[18,"DISPUTES,LITIGATION & DEFAULTS"]
[19,"REFERENCES"]
[]
[]
[]
[null,"REVIEWED BY:  _________________"]
[null,"DATE:_________________________"]

{"sheet":"REVIEW","index":16,"n_rows":41,"n_cols":3,"rows_kept":41,"cut":false,"hidden":false,"merged":[]}
[null,null,"FIRM:________________________________"]
[]
["ITEM","DESCRIPTION","COMMENTS"]
[1,"RELATED BUILDING EXPERIENCE"]
[]
[]
[]
[]
[]
[]
[2,"ABILITY/EXP OF PROJECT STAFF","COMMENTS"]
[]
[]
[]
[]
[]
[]
[3,"PERFORMANCE HISTORY","COMMENTS"]
[]
[]
[]
[]
[]
[]
[4,"WORKLOAD","COMMENTS"]
[]
[]
[]
[]
[]
[]
[5,"MINORITY BUSINESS HISTORY","COMMENTS"]
[]
[]
[]
[]
[]
[]
[]
["OTHER COMMENTS:______________________________________________________"]
["________________________________________________________________________"]

{"sheet":"PRESNOTES","index":17,"n_rows":24,"n_cols":4,"rows_kept":24,"cut":false,"hidden":false,"merged":[[0,0,0,3]]}
[{"$f":"SHELL!B1","v":"Project Name: "}]
[]
["NAME OF FIRM: "]
["DATE: "]
[]
["ITEM","INTERVIEW ","WEIGHT","NOTES/OBSERVATIONS/COMMENTS"]
[null,"CRITERIA"]
[1,"References",0.1]
[]
[]
[2,"Overall Approach, Methodology &Knowledge of Site",0.3]
[]
[]
[3,"Project Team",0.1]
[]
[]
[4,"Cost Control",0.2]
[]
[]
[5,"Project Scheduling",0.2]
[6,"MWBE & LDB Implementation Plan",0.1]
[]
["Committee Member Name (Please Print):____________________  "]
["Committee Member Signature:_____________________________   Date:_______________"]